BEGIN:VCALENDAR
VERSION:2.0
PRODID:-//NEHSA - ECPv6.15.20//NONSGML v1.0//EN
CALSCALE:GREGORIAN
METHOD:PUBLISH
X-WR-CALNAME:NEHSA
X-ORIGINAL-URL:https://nehsa.org
X-WR-CALDESC:Events for NEHSA
REFRESH-INTERVAL;VALUE=DURATION:PT1H
X-Robots-Tag:noindex
X-PUBLISHED-TTL:PT1H
BEGIN:VTIMEZONE
TZID:America/New_York
BEGIN:DAYLIGHT
TZOFFSETFROM:-0500
TZOFFSETTO:-0400
TZNAME:EDT
DTSTART:20230312T070000
END:DAYLIGHT
BEGIN:STANDARD
TZOFFSETFROM:-0400
TZOFFSETTO:-0500
TZNAME:EST
DTSTART:20231105T060000
END:STANDARD
BEGIN:DAYLIGHT
TZOFFSETFROM:-0500
TZOFFSETTO:-0400
TZNAME:EDT
DTSTART:20240310T070000
END:DAYLIGHT
BEGIN:STANDARD
TZOFFSETFROM:-0400
TZOFFSETTO:-0500
TZNAME:EST
DTSTART:20241103T060000
END:STANDARD
BEGIN:DAYLIGHT
TZOFFSETFROM:-0500
TZOFFSETTO:-0400
TZNAME:EDT
DTSTART:20250309T070000
END:DAYLIGHT
BEGIN:STANDARD
TZOFFSETFROM:-0400
TZOFFSETTO:-0500
TZNAME:EST
DTSTART:20251102T060000
END:STANDARD
END:VTIMEZONE
BEGIN:VEVENT
DTSTART;TZID=America/New_York:20240904T120000
DTEND;TZID=America/New_York:20240904T140000
DTSTAMP:20260421T145908
CREATED:20240422T160657Z
LAST-MODIFIED:20240422T160657Z
UID:11129-1725451200-1725458400@nehsa.org
SUMMARY:Bedford VA Paddle  Location: Bedford\, MA\, Boat Ramp
DESCRIPTION:Time: 12pm – 2pm \nLocation: 285-305 Carlisle Rd\, Bedford\, MA  01730
URL:https://nehsa.org/events/bedford-va-paddle-location-bedford-ma-boat-ramp-8/
LOCATION:Bedford MA Boat Ramp\, 285-305 Carlisle Rd\, Bedford\, MA\, 01730\, United States
CATEGORIES:Athletes,Kayaking,Summer Sports,Veterans,Women Veterans
END:VEVENT
BEGIN:VEVENT
DTSTART;TZID=America/New_York:20240911T110000
DTEND;TZID=America/New_York:20240911T130000
DTSTAMP:20260421T145908
CREATED:20240422T155858Z
LAST-MODIFIED:20240423T201415Z
UID:11125-1726052400-1726059600@nehsa.org
SUMMARY:Boston VA Paddle  Location: Newton Historic Boathouse\, Newton\, MA
DESCRIPTION:Time 11am – 1pm \nLocation:  Paddle Boston: Newton Historic Boathouse\, 2401 Commonwealth Ave\, Auburndale\, MA  02466 \nhttps://goo.gl/maps/NHoKx6vAVLXRQnCw9 \nYou can park at Newton Boathouse Public Parking\, Weston\, MA 02493 and walk over the bridge: \nhttps://goo.gl/maps/TTViyCbpaVyGSWHn9
URL:https://nehsa.org/events/boston-va-paddle-location-newton-historic-boathouse-newton-ma-3/
LOCATION:Newton Historic Boathouse\, 2401 Commonwealth Avenue\, Newton\, MA\, 02466\, United States
CATEGORIES:Athletes,Kayaking,Summer Sports,Veterans,Volunteer,Women Veterans
END:VEVENT
BEGIN:VEVENT
DTSTART;TZID=America/New_York:20240917T110000
DTEND;TZID=America/New_York:20240917T150000
DTSTAMP:20260421T145908
CREATED:20240323T113408Z
LAST-MODIFIED:20240323T141959Z
UID:10980-1726570800-1726585200@nehsa.org
SUMMARY:5th Annual Veterans Portsmouth Paddle at the Portsmouth Elks Lodge
DESCRIPTION:Portsmouth Elks Lodge #97 and New England Healing Sports Association- NEHSA\nwill host Veterans from New England for an adaptive kayak in Portsmouth\, New Hampshire.\n\nLocation:  500 Jones Ave\, Portsmouth\, NH  03801\n\nTime:  start 11am – 3pm
URL:https://nehsa.org/events/5th-annual-veterans-portsmouth-paddle-at-the-portsmouth-elks-lodge/
LOCATION:Portsmouth  Elks Lodge #97\, 500 Jones Ave\, Portsmouth\, NH\, 03801\, United States
CATEGORIES:Fundraiser,Kayaking,Special Event,Veterans
END:VEVENT
BEGIN:VEVENT
DTSTART;TZID=America/New_York:20240918T120000
DTEND;TZID=America/New_York:20240918T140000
DTSTAMP:20260421T145908
CREATED:20240826T191958Z
LAST-MODIFIED:20240903T162409Z
UID:11347-1726660800-1726668000@nehsa.org
SUMMARY:Bedford VA Paddle Location:  Bedford\, MA\, Boat Ramp
DESCRIPTION:
URL:https://nehsa.org/events/bedford-va-paddle-location-bedford-boat-ramp/
LOCATION:Bedford MA Boat Ramp\, 285-305 Carlisle Rd\, Bedford\, MA\, 01730\, United States
CATEGORIES:Athletes,Kayaking,Summer Sports,Veterans,Women Veterans
END:VEVENT
BEGIN:VEVENT
DTSTART;TZID=America/New_York:20240923T093000
DTEND;TZID=America/New_York:20240923T113000
DTSTAMP:20260421T145908
CREATED:20240422T162345Z
LAST-MODIFIED:20240903T152213Z
UID:11135-1727083800-1727091000@nehsa.org
SUMMARY:White River Junction VA Paddle  Location: Grafton Pond Reservation Boat Launch\, Grafton\, NH
DESCRIPTION:Time: 9:30am – 11:30am
URL:https://nehsa.org/events/white-river-junction-va-paddle-location-tbd-7/
LOCATION:Grafton Pond Reservation Boat Launch\, Grafton Pond Road\, Grafton\, NH\, 03240\, United States
CATEGORIES:Athletes,Kayaking,Summer Sports,Veterans,Volunteer,Women Veterans
END:VEVENT
BEGIN:VEVENT
DTSTART;TZID=America/New_York:20240924T130000
DTEND;TZID=America/New_York:20240924T150000
DTSTAMP:20260421T145908
CREATED:20240829T190847Z
LAST-MODIFIED:20240829T192522Z
UID:11362-1727182800-1727190000@nehsa.org
SUMMARY:White River Junction VA RRC Paddle\, Location:  Grafton Pond Reservation Boat Launch\, Grafton\, NH
DESCRIPTION:
URL:https://nehsa.org/events/wrj-rrc-paddle-location-grafton-pond-reservation-boat-launch-grafton-nh/
LOCATION:Grafton Pond Reservation Boat Launch\, Grafton Pond Road\, Grafton\, NH\, 03240\, United States
CATEGORIES:Athletes,Kayaking,Summer Sports,Veterans,Volunteer,Women Veterans
END:VEVENT
BEGIN:VEVENT
DTSTART;TZID=America/New_York:20240930T093000
DTEND;TZID=America/New_York:20240930T113000
DTSTAMP:20260421T145908
CREATED:20240829T192150Z
LAST-MODIFIED:20240829T192336Z
UID:11367-1727688600-1727695800@nehsa.org
SUMMARY:White River Junction VA Paddle  Location: Grafton Pond Reservation Boat Launch\, Grafton\, NH
DESCRIPTION:
URL:https://nehsa.org/events/white-river-junction-va-paddle-location-grafton-pond-reservation-boat-launch-grafton-nh/
LOCATION:Grafton Pond Reservation Boat Launch\, Grafton Pond Road\, Grafton\, NH\, 03240\, United States
CATEGORIES:Athletes,Kayaking,Summer Sports,Veterans,Volunteer,Women Veterans
END:VEVENT
END:VCALENDAR