BEGIN:VCALENDAR
VERSION:2.0
PRODID:-//NEHSA - ECPv6.15.20//NONSGML v1.0//EN
CALSCALE:GREGORIAN
METHOD:PUBLISH
X-WR-CALNAME:NEHSA
X-ORIGINAL-URL:https://nehsa.org
X-WR-CALDESC:Events for NEHSA
REFRESH-INTERVAL;VALUE=DURATION:PT1H
X-Robots-Tag:noindex
X-PUBLISHED-TTL:PT1H
BEGIN:VTIMEZONE
TZID:America/New_York
BEGIN:DAYLIGHT
TZOFFSETFROM:-0500
TZOFFSETTO:-0400
TZNAME:EDT
DTSTART:20230312T070000
END:DAYLIGHT
BEGIN:STANDARD
TZOFFSETFROM:-0400
TZOFFSETTO:-0500
TZNAME:EST
DTSTART:20231105T060000
END:STANDARD
BEGIN:DAYLIGHT
TZOFFSETFROM:-0500
TZOFFSETTO:-0400
TZNAME:EDT
DTSTART:20240310T070000
END:DAYLIGHT
BEGIN:STANDARD
TZOFFSETFROM:-0400
TZOFFSETTO:-0500
TZNAME:EST
DTSTART:20241103T060000
END:STANDARD
BEGIN:DAYLIGHT
TZOFFSETFROM:-0500
TZOFFSETTO:-0400
TZNAME:EDT
DTSTART:20250309T070000
END:DAYLIGHT
BEGIN:STANDARD
TZOFFSETFROM:-0400
TZOFFSETTO:-0500
TZNAME:EST
DTSTART:20251102T060000
END:STANDARD
END:VTIMEZONE
BEGIN:VEVENT
DTSTART;TZID=America/New_York:20240610T093000
DTEND;TZID=America/New_York:20240610T113000
DTSTAMP:20260421T195438
CREATED:20240419T185050Z
LAST-MODIFIED:20240419T185050Z
UID:11055-1718011800-1718019000@nehsa.org
SUMMARY:White River Junction VA Paddle  Location: TBD
DESCRIPTION:Time:  9:30am-11:30am
URL:https://nehsa.org/events/white-river-junction-va-paddle-location-tbd/
LOCATION:NH
CATEGORIES:Kayaking,Veterans,Volunteer
END:VEVENT
BEGIN:VEVENT
DTSTART;TZID=America/New_York:20240617T163000
DTEND;TZID=America/New_York:20240617T183000
DTSTAMP:20260421T195438
CREATED:20240419T190321Z
LAST-MODIFIED:20240419T190321Z
UID:11068-1718641800-1718649000@nehsa.org
SUMMARY:White River Junction VA Paddle  Location: TBD
DESCRIPTION:
URL:https://nehsa.org/events/white-river-junction-va-paddle-location-tbd-2/
LOCATION:NH
CATEGORIES:Athletes,Kayaking,Summer Sports,Veterans,Volunteer
END:VEVENT
BEGIN:VEVENT
DTSTART;TZID=America/New_York:20240624T093000
DTEND;TZID=America/New_York:20240624T113000
DTSTAMP:20260421T195438
CREATED:20240419T190415Z
LAST-MODIFIED:20240419T190415Z
UID:11070-1719221400-1719228600@nehsa.org
SUMMARY:White River Junction VA Paddle  Location: TBD
DESCRIPTION:
URL:https://nehsa.org/events/white-river-junction-va-paddle-location-tbd-3/
LOCATION:NH
CATEGORIES:Athletes,Kayaking,Summer Sports,Veterans,Volunteer
END:VEVENT
BEGIN:VEVENT
DTSTART;TZID=America/New_York:20240626T110000
DTEND;TZID=America/New_York:20240626T130000
DTSTAMP:20260421T195438
CREATED:20240420T171124Z
LAST-MODIFIED:20240423T201749Z
UID:11072-1719399600-1719406800@nehsa.org
SUMMARY:VA Boston Paddle  Location: Newton Historic Boathouse\, Newton\, MA
DESCRIPTION:Time 11am – 1pm \nLocation:  Paddle Boston: Newton Historic Boathouse\, 2401 Commonwealth Ave\, Auburndale\, MA  02466 \nhttps://goo.gl/maps/NHoKx6vAVLXRQnCw9 \nYou can park at Newton Boathouse Public Parking\, Weston\, MA 02493 and walk over the bridge: \nhttps://goo.gl/maps/TTViyCbpaVyGSWHn9
URL:https://nehsa.org/events/va-boston-paddle-location-newton-historic-boathouse-newton-ma/
LOCATION:Newton Historic Boathouse\, 2401 Commonwealth Avenue\, Newton\, MA\, 02466\, United States
CATEGORIES:Athletes,Kayaking,Veterans,Volunteer,Women Veterans
END:VEVENT
END:VCALENDAR