BEGIN:VCALENDAR
VERSION:2.0
PRODID:-//NEHSA - ECPv6.15.20//NONSGML v1.0//EN
CALSCALE:GREGORIAN
METHOD:PUBLISH
X-WR-CALNAME:NEHSA
X-ORIGINAL-URL:https://nehsa.org
X-WR-CALDESC:Events for NEHSA
REFRESH-INTERVAL;VALUE=DURATION:PT1H
X-Robots-Tag:noindex
X-PUBLISHED-TTL:PT1H
BEGIN:VTIMEZONE
TZID:America/New_York
BEGIN:DAYLIGHT
TZOFFSETFROM:-0500
TZOFFSETTO:-0400
TZNAME:EDT
DTSTART:20250309T070000
END:DAYLIGHT
BEGIN:STANDARD
TZOFFSETFROM:-0400
TZOFFSETTO:-0500
TZNAME:EST
DTSTART:20251102T060000
END:STANDARD
BEGIN:DAYLIGHT
TZOFFSETFROM:-0500
TZOFFSETTO:-0400
TZNAME:EDT
DTSTART:20260308T070000
END:DAYLIGHT
BEGIN:STANDARD
TZOFFSETFROM:-0400
TZOFFSETTO:-0500
TZNAME:EST
DTSTART:20261101T060000
END:STANDARD
BEGIN:DAYLIGHT
TZOFFSETFROM:-0500
TZOFFSETTO:-0400
TZNAME:EDT
DTSTART:20270314T070000
END:DAYLIGHT
BEGIN:STANDARD
TZOFFSETFROM:-0400
TZOFFSETTO:-0500
TZNAME:EST
DTSTART:20271107T060000
END:STANDARD
END:VTIMEZONE
BEGIN:VEVENT
DTSTART;VALUE=DATE:20260304
DTEND;VALUE=DATE:20260307
DTSTAMP:20260422T183433
CREATED:20251015T184854Z
LAST-MODIFIED:20251015T184854Z
UID:12061-1772582400-1772841599@nehsa.org
SUMMARY:PSIA Assessment & Exam
DESCRIPTION:More info to come.
URL:https://nehsa.org/events/psia-assessment-exam/
LOCATION:Mount Sunapee Resort\, 1398 Route 103\, Newbury\, NH\, 03255\, United States
CATEGORIES:Training,Volunteer
END:VEVENT
BEGIN:VEVENT
DTSTART;TZID=America/New_York:20260612T100000
DTEND;TZID=America/New_York:20260612T150000
DTSTAMP:20260422T183433
CREATED:20260417T182308Z
LAST-MODIFIED:20260417T182308Z
UID:12271-1781258400-1781276400@nehsa.org
SUMMARY:Adaptive Kayak Training Clinic
DESCRIPTION:Time:  10am-3pm \nLocation: Little Lake Sunapee Boat Launch\, 1891 Little Lake Sunapee Rd\, New London\, NH 03257 \nPlease sign up in our NEHSA Portal (on your homepage click on NEHSA Clinic Registration) or give us a call (603) 763-9158 or email info@nehsa.org.
URL:https://nehsa.org/events/adaptive-kayak-training-clinic-2/
LOCATION:Little Lake Sunapee Boat Launch\, Little Lake Sunapee Boat Launch\, New London\, NH\, 03257\, United States
CATEGORIES:Kayaking,Summer Sports,Training,Volunteer
END:VEVENT
BEGIN:VEVENT
DTSTART;VALUE=DATE:20260811
DTEND;VALUE=DATE:20260814
DTSTAMP:20260422T183433
CREATED:20260310T190230Z
LAST-MODIFIED:20260311T122800Z
UID:12203-1786406400-1786665599@nehsa.org
SUMMARY:ACA Training
DESCRIPTION:Sign Up Required\, Volunteers Only
URL:https://nehsa.org/events/aca-training-2/
CATEGORIES:Kayaking,Training,Volunteer
END:VEVENT
END:VCALENDAR