BEGIN:VCALENDAR
VERSION:2.0
PRODID:-//NEHSA - ECPv6.15.20//NONSGML v1.0//EN
CALSCALE:GREGORIAN
METHOD:PUBLISH
X-WR-CALNAME:NEHSA
X-ORIGINAL-URL:https://nehsa.org
X-WR-CALDESC:Events for NEHSA
REFRESH-INTERVAL;VALUE=DURATION:PT1H
X-Robots-Tag:noindex
X-PUBLISHED-TTL:PT1H
BEGIN:VTIMEZONE
TZID:America/New_York
BEGIN:DAYLIGHT
TZOFFSETFROM:-0500
TZOFFSETTO:-0400
TZNAME:EDT
DTSTART:20240310T070000
END:DAYLIGHT
BEGIN:STANDARD
TZOFFSETFROM:-0400
TZOFFSETTO:-0500
TZNAME:EST
DTSTART:20241103T060000
END:STANDARD
BEGIN:DAYLIGHT
TZOFFSETFROM:-0500
TZOFFSETTO:-0400
TZNAME:EDT
DTSTART:20250309T070000
END:DAYLIGHT
BEGIN:STANDARD
TZOFFSETFROM:-0400
TZOFFSETTO:-0500
TZNAME:EST
DTSTART:20251102T060000
END:STANDARD
BEGIN:DAYLIGHT
TZOFFSETFROM:-0500
TZOFFSETTO:-0400
TZNAME:EDT
DTSTART:20260308T070000
END:DAYLIGHT
BEGIN:STANDARD
TZOFFSETFROM:-0400
TZOFFSETTO:-0500
TZNAME:EST
DTSTART:20261101T060000
END:STANDARD
BEGIN:DAYLIGHT
TZOFFSETFROM:-0500
TZOFFSETTO:-0400
TZNAME:EDT
DTSTART:20270314T070000
END:DAYLIGHT
BEGIN:STANDARD
TZOFFSETFROM:-0400
TZOFFSETTO:-0500
TZNAME:EST
DTSTART:20271107T060000
END:STANDARD
END:VTIMEZONE
BEGIN:VEVENT
DTSTART;TZID=America/New_York:20251221T090000
DTEND;TZID=America/New_York:20251221T120000
DTSTAMP:20260422T184021
CREATED:20251114T162800Z
LAST-MODIFIED:20251114T162800Z
UID:12136-1766307600-1766318400@nehsa.org
SUMMARY:Stand-Up Tethering Clinic AM
DESCRIPTION:This clinic will focus on practicing the skills needed for effective stand up tethering. Included will be skiing drills which will improve your ability to tether\, proper tethering positioning and how to use the terrain to bettter assist your athlete. Practicing these techniques will ensure that you can better help the skier be safe on the slope and advance their own skiing. Attendees will want to utilize NEHSA skis with eye bolts for this clinic.  \nTo sign up\, please login to the NEHSA Portal:  Click Here \nOnce in the portal\, click on NEHSA Clinic Registration on the left. \nEmail info@nehsa.org if you have any questions.
URL:https://nehsa.org/events/stand-up-tethering-clinic-am/
LOCATION:New England Healing Sports Association\, 180 Mount Sunapee Rd\, Newbury\, NH\, 03255\, United States
CATEGORIES:Snow Sports,Training,Volunteer,Volunteer Pre Season Clinic
END:VEVENT
BEGIN:VEVENT
DTSTART;TZID=America/New_York:20251221T130000
DTEND;TZID=America/New_York:20251221T160000
DTSTAMP:20260422T184021
CREATED:20251114T160319Z
LAST-MODIFIED:20251114T160319Z
UID:12128-1766322000-1766332800@nehsa.org
SUMMARY:Bi-Ski Tethering Clinic PM
DESCRIPTION:This clinic is meant for those of you who have some experience behind the sit-ski and is designed to further your skill as a lead instructor. We will work on tethering techniques as well as in depth training to engage your participant by teaching them how to initiate turns and to use outriggers to give them more independence.\n*Participants must have some previous experience with the bi-ski to participate in this clinic. \nTo sign up\, please login to the NEHSA Portal:  Click Here \nOnce in the portal\, click on NEHSA Clinic Registration on the left. \nEmail info@nehsa.org if you have any questions.
URL:https://nehsa.org/events/bi-ski-tethering-clinic-pm/
LOCATION:New England Healing Sports Association\, 180 Mount Sunapee Rd\, Newbury\, NH\, 03255\, United States
CATEGORIES:Snow Sports,Training,Volunteer,Volunteer Pre Season Clinic
END:VEVENT
BEGIN:VEVENT
DTSTART;TZID=America/New_York:20251221T130000
DTEND;TZID=America/New_York:20251221T160000
DTSTAMP:20260422T184021
CREATED:20251114T161300Z
LAST-MODIFIED:20251114T161300Z
UID:12134-1766322000-1766332800@nehsa.org
SUMMARY:Movement Analysis Clinic PM
DESCRIPTION:If you’d like to learn how to help your beginner to intermediate athlete have more fun on\nthe hill\, this clinic is for you. Learn how to observe and identify movement patterns that\ncould be improved to increase your student’s enjoyment and performance. You’ll learn how\nto evaluate the effect of a student’s movements on the action of the skis\, and drills and\nexercises designed to help your students move more efficiently and effectively\, and have\nmore fun!. Bonus: improve your own skiing\, too! \nTo sign up\, please login to the NEHSA Portal:  Click Here \nOnce in the portal\, click on NEHSA Clinic Registration on the left. \nEmail info@nehsa.org if you have any questions.
URL:https://nehsa.org/events/movement-analysis-clinic-pm/
LOCATION:New England Healing Sports Association\, 180 Mount Sunapee Rd\, Newbury\, NH\, 03255\, United States
CATEGORIES:Snow Sports,Training,Volunteer,Volunteer Pre Season Clinic
END:VEVENT
BEGIN:VEVENT
DTSTART;TZID=America/New_York:20251221T130000
DTEND;TZID=America/New_York:20251221T160000
DTSTAMP:20260422T184021
CREATED:20251114T162948Z
LAST-MODIFIED:20251114T162948Z
UID:12138-1766322000-1766332800@nehsa.org
SUMMARY:Stand-Up Tethering Clinic PM
DESCRIPTION:This clinic will focus on practicing the skills needed for effective stand up tethering. Included will be skiing drills which will improve your ability to tether\, proper tethering positioning and how to use the terrain to bettter assist your athlete. Practicing these techniques will ensure that you can better help the skier be safe on the slope and advance their own skiing. Attendees will want to utilize NEHSA skis with eye bolts for this clinic.  \nTo sign up\, please login to the NEHSA Portal:  Click Here \nOnce in the portal\, click on NEHSA Clinic Registration on the left. \nEmail info@nehsa.org if you have any questions.
URL:https://nehsa.org/events/stand-up-tethering-clinic-pm/
LOCATION:New England Healing Sports Association\, 180 Mount Sunapee Rd\, Newbury\, NH\, 03255\, United States
CATEGORIES:Snow Sports,Training,Volunteer,Volunteer Pre Season Clinic
END:VEVENT
BEGIN:VEVENT
DTSTART;TZID=America/New_York:20251221T130000
DTEND;TZID=America/New_York:20251221T160000
DTSTAMP:20260422T184021
CREATED:20251114T163245Z
LAST-MODIFIED:20251114T163245Z
UID:12140-1766322000-1766332800@nehsa.org
SUMMARY:3/4 Track Clinic PM Only
DESCRIPTION:Broaden your understanding of 3-track and 4-track skiing and instruction. Start with\nevaluating the athlete’s individual needs\, reviewing equipment used and the set-up\nassociated with this discipline. Practice skiing 3 and 4 track while focusing on the\nteaching progression and skill development. \nTo sign up\, please login to the NEHSA Portal:  Click Here \nOnce in the portal\, click on NEHSA Clinic Registration on the left. \nEmail info@nehsa.org if you have any questions. \n 
URL:https://nehsa.org/events/3-4-track-clinic-pm-only/
LOCATION:New England Healing Sports Association\, 180 Mount Sunapee Rd\, Newbury\, NH\, 03255\, United States
CATEGORIES:Snow Sports,Training,Volunteer,Volunteer Pre Season Clinic
END:VEVENT
BEGIN:VEVENT
DTSTART;VALUE=DATE:20260304
DTEND;VALUE=DATE:20260307
DTSTAMP:20260422T184021
CREATED:20251015T184854Z
LAST-MODIFIED:20251015T184854Z
UID:12061-1772582400-1772841599@nehsa.org
SUMMARY:PSIA Assessment & Exam
DESCRIPTION:More info to come.
URL:https://nehsa.org/events/psia-assessment-exam/
LOCATION:Mount Sunapee Resort\, 1398 Route 103\, Newbury\, NH\, 03255\, United States
CATEGORIES:Training,Volunteer
END:VEVENT
BEGIN:VEVENT
DTSTART;TZID=America/New_York:20260612T100000
DTEND;TZID=America/New_York:20260612T150000
DTSTAMP:20260422T184021
CREATED:20260417T182308Z
LAST-MODIFIED:20260417T182308Z
UID:12271-1781258400-1781276400@nehsa.org
SUMMARY:Adaptive Kayak Training Clinic
DESCRIPTION:Time:  10am-3pm \nLocation: Little Lake Sunapee Boat Launch\, 1891 Little Lake Sunapee Rd\, New London\, NH 03257 \nPlease sign up in our NEHSA Portal (on your homepage click on NEHSA Clinic Registration) or give us a call (603) 763-9158 or email info@nehsa.org.
URL:https://nehsa.org/events/adaptive-kayak-training-clinic-2/
LOCATION:Little Lake Sunapee Boat Launch\, Little Lake Sunapee Boat Launch\, New London\, NH\, 03257\, United States
CATEGORIES:Kayaking,Summer Sports,Training,Volunteer
END:VEVENT
BEGIN:VEVENT
DTSTART;VALUE=DATE:20260811
DTEND;VALUE=DATE:20260814
DTSTAMP:20260422T184021
CREATED:20260310T190230Z
LAST-MODIFIED:20260311T122800Z
UID:12203-1786406400-1786665599@nehsa.org
SUMMARY:ACA Training
DESCRIPTION:Sign Up Required\, Volunteers Only
URL:https://nehsa.org/events/aca-training-2/
CATEGORIES:Kayaking,Training,Volunteer
END:VEVENT
END:VCALENDAR