BEGIN:VCALENDAR
VERSION:2.0
PRODID:-//NEHSA - ECPv6.15.20//NONSGML v1.0//EN
CALSCALE:GREGORIAN
METHOD:PUBLISH
X-ORIGINAL-URL:https://nehsa.org
X-WR-CALDESC:Events for NEHSA
REFRESH-INTERVAL;VALUE=DURATION:PT1H
X-Robots-Tag:noindex
X-PUBLISHED-TTL:PT1H
BEGIN:VTIMEZONE
TZID:America/New_York
BEGIN:DAYLIGHT
TZOFFSETFROM:-0500
TZOFFSETTO:-0400
TZNAME:EDT
DTSTART:20190310T070000
END:DAYLIGHT
BEGIN:STANDARD
TZOFFSETFROM:-0400
TZOFFSETTO:-0500
TZNAME:EST
DTSTART:20191103T060000
END:STANDARD
BEGIN:DAYLIGHT
TZOFFSETFROM:-0500
TZOFFSETTO:-0400
TZNAME:EDT
DTSTART:20200308T070000
END:DAYLIGHT
BEGIN:STANDARD
TZOFFSETFROM:-0400
TZOFFSETTO:-0500
TZNAME:EST
DTSTART:20201101T060000
END:STANDARD
BEGIN:DAYLIGHT
TZOFFSETFROM:-0500
TZOFFSETTO:-0400
TZNAME:EDT
DTSTART:20210314T070000
END:DAYLIGHT
BEGIN:STANDARD
TZOFFSETFROM:-0400
TZOFFSETTO:-0500
TZNAME:EST
DTSTART:20211107T060000
END:STANDARD
END:VTIMEZONE
BEGIN:VEVENT
DTSTART;TZID=America/New_York:20201205T113000
DTEND;TZID=America/New_York:20201205T123000
DTSTAMP:20260421T151227
CREATED:20201124T021215Z
LAST-MODIFIED:20201124T021343Z
UID:7758-1607167800-1607171400@nehsa.org
SUMMARY:Learn How to Teach - Via Zoom
DESCRIPTION:This information-packed clinic is geared toward the newer volunteer instructor. You will hear an overview of all\ndisciplines and disabilities that we see at NEHSA\, how to perform simple athlete assessments\, identify learning\npreferences and teaching styles\, and explore effective communication techniques. We will explain what is expected of\nyou as a volunteer to better facilitate the lesson and achieve a safe and successful on-snow experience for all. \nPlease send an e-mail to info@nehsa.org to receive login credentials.
URL:https://nehsa.org/events/learn-how-to-teach-via-zoom/
LOCATION:Zoom
CATEGORIES:Special Event,Training,Volunteer Pre Season Clinic
ORGANIZER;CN="NEHSA":MAILTO:info@nehsa.org
END:VEVENT
BEGIN:VEVENT
DTSTART;TZID=America/New_York:20201205T113000
DTEND;TZID=America/New_York:20201205T123000
DTSTAMP:20260421T151227
CREATED:20201124T015305Z
LAST-MODIFIED:20201124T021432Z
UID:7753-1607167800-1607171400@nehsa.org
SUMMARY:Volunteer 201 - Via Zoom
DESCRIPTION:This season is going to be unlike any other! We’ve made some big updates in order to create a safe and fun season. This\nclinic will go over the changes regarding COVID-19\, Safesport Training\, and Lodge Logistics for the upcoming winter\nseason. THIS IS A REQUIREMENT FOR RETURNING VOLUNTEERS AND MUST BE VIEWED BEFORE YOUR FIRST VOLUNTEER\nSESSION! \nPlease send an e-mail to info@nehsa.org to receive login credentials. \n 
URL:https://nehsa.org/events/volunteer-201/
LOCATION:Zoom
CATEGORIES:Special Event,Training,Volunteer Pre Season Clinic
ORGANIZER;CN="NEHSA":MAILTO:info@nehsa.org
END:VEVENT
BEGIN:VEVENT
DTSTART;TZID=America/New_York:20201205T100000
DTEND;TZID=America/New_York:20201205T110000
DTSTAMP:20260421T151227
CREATED:20201124T014623Z
LAST-MODIFIED:20201124T021523Z
UID:7751-1607162400-1607166000@nehsa.org
SUMMARY:Volunteer 101 - Via Zoom
DESCRIPTION:Are you new to NEHSA? This clinic is the place to start and learn all about being a NEHSA volunteer. You will learn what\nis expected from you on a day-to-day basis and how to be a part of the team. THIS IS A REQUIREMENT FOR NEW\nVOLUNTEERS AND MUST BE VIEWED BEFORE VOLUNTEERING WITH OUR STUDENTS. After December\, this will be offered\nupon request. \nPlease send an e-mail to info@nehsa.org to receive login credentials.
URL:https://nehsa.org/events/volunteer-101/
LOCATION:Zoom
CATEGORIES:Special Event,Training,Volunteer Pre Season Clinic
ORGANIZER;CN="NEHSA":MAILTO:info@nehsa.org
END:VEVENT
END:VCALENDAR