BEGIN:VCALENDAR
VERSION:2.0
PRODID:-//NEHSA - ECPv6.15.20//NONSGML v1.0//EN
CALSCALE:GREGORIAN
METHOD:PUBLISH
X-ORIGINAL-URL:https://nehsa.org
X-WR-CALDESC:Events for NEHSA
REFRESH-INTERVAL;VALUE=DURATION:PT1H
X-Robots-Tag:noindex
X-PUBLISHED-TTL:PT1H
BEGIN:VTIMEZONE
TZID:America/New_York
BEGIN:DAYLIGHT
TZOFFSETFROM:-0500
TZOFFSETTO:-0400
TZNAME:EDT
DTSTART:20210314T070000
END:DAYLIGHT
BEGIN:STANDARD
TZOFFSETFROM:-0400
TZOFFSETTO:-0500
TZNAME:EST
DTSTART:20211107T060000
END:STANDARD
BEGIN:DAYLIGHT
TZOFFSETFROM:-0500
TZOFFSETTO:-0400
TZNAME:EDT
DTSTART:20220313T070000
END:DAYLIGHT
BEGIN:STANDARD
TZOFFSETFROM:-0400
TZOFFSETTO:-0500
TZNAME:EST
DTSTART:20221106T060000
END:STANDARD
BEGIN:DAYLIGHT
TZOFFSETFROM:-0500
TZOFFSETTO:-0400
TZNAME:EDT
DTSTART:20230312T070000
END:DAYLIGHT
BEGIN:STANDARD
TZOFFSETFROM:-0400
TZOFFSETTO:-0500
TZNAME:EST
DTSTART:20231105T060000
END:STANDARD
END:VTIMEZONE
BEGIN:VEVENT
DTSTART;VALUE=DATE:20221218
DTEND;VALUE=DATE:20221219
DTSTAMP:20260424T010752
CREATED:20221118T185808Z
LAST-MODIFIED:20221118T190303Z
UID:10067-1671321600-1671407999@nehsa.org
SUMMARY:ON SNOW CLINIC Ski Bike
DESCRIPTION:Ski Bike\nSki Bikes are out and about at Mount Sunapee! Ski Bikes are a fantastic tool for a wide variety of our athletes. Learn the\nins and outs of this new offering in our equipment line up. Try it for yourself and learn how to make a successful ski bike\nlesson. \nWeather permitting.  9AM-12PM or 1PM-4PM \nEmail info@nehsa.org to sign up and please note if you would like AM or PM.
URL:https://nehsa.org/events/on-snow-clinic-ski-bike-2/
LOCATION:Mount Sunapee-South Peak\, 1398 NH Route 103\, Newbury\, NH\, 03255\, United States
CATEGORIES:Special Event,Training,Volunteer Pre Season Clinic
END:VEVENT
BEGIN:VEVENT
DTSTART;VALUE=DATE:20221218
DTEND;VALUE=DATE:20221219
DTSTAMP:20260424T010752
CREATED:20221118T185959Z
LAST-MODIFIED:20221118T190216Z
UID:10069-1671321600-1671407999@nehsa.org
SUMMARY:ON SNOW CLINIC ATS & Adaptive Connection
DESCRIPTION:ATS and the Adaptive Connection\nTo better understand the fundamentals of Alpine skiing\, we will show you ways to develop your own personal skiing.\nThis clinic will review the American Teaching System foundation and then demonstrate how to adapt these principles to\nmeet the needs of athletes with disabilities. *Participants must be able to ski various terrains on the mountain. \nWeather permitting.  9AM-12PM or 1PM-4PM \nEmail info@nehsa.org to sign up and please note if you would like AM or PM.
URL:https://nehsa.org/events/on-snow-clinic-ats-adaptive-connection/
LOCATION:Mount Sunapee-South Peak\, 1398 NH Route 103\, Newbury\, NH\, 03255\, United States
CATEGORIES:Special Event,Training,Volunteer Pre Season Clinic
END:VEVENT
BEGIN:VEVENT
DTSTART;VALUE=DATE:20221218
DTEND;VALUE=DATE:20221219
DTSTAMP:20260424T010752
CREATED:20221118T190134Z
LAST-MODIFIED:20221118T190134Z
UID:10071-1671321600-1671407999@nehsa.org
SUMMARY:ON SNOW CLINIC Promoting Ind. Sit Skiers
DESCRIPTION:Promoting Independence Through Sit Skiing\nAre you curious how to coach a sit skier athlete to ski off tether? Do you want to learn how to teach a never ever mono\nskier? Join us for this advanced clinic where we will focus on techniques to get athletes to the next level\, giving them\nmore independence and confidence. \nWeather permitting.  9AM-12 or 1PM-4PM \nEmail info@nehsa.org to sign up and please note if you would like AM or PM.
URL:https://nehsa.org/events/on-snow-clinic-promoting-ind-sit-skiers/
LOCATION:Mount Sunapee-South Peak\, 1398 NH Route 103\, Newbury\, NH\, 03255\, United States
CATEGORIES:Special Event,Training,Volunteer Pre Season Clinic
END:VEVENT
BEGIN:VEVENT
DTSTART;VALUE=DATE:20221218
DTEND;VALUE=DATE:20221219
DTSTAMP:20260424T010752
CREATED:20221118T190458Z
LAST-MODIFIED:20221118T190458Z
UID:10075-1671321600-1671407999@nehsa.org
SUMMARY:ON SNOW CLINIC Tethering Stand Up Skiers
DESCRIPTION:Tethering Techniques for Stand-Up Skiers\nThis clinic will focus on practicing the skills needed for effective stand up tethering. Included will be skiing drills which\nwill improve your ability to tether\, proper tethering positioning and how to use the terrain to better assist your athlete.\nPracticing these techniques will ensure that you can better help the skier be safe on the slope and advance their own\nskiing. Attendees will want to utilize NEHSA skis with eye bolts for this clinic. \nWeather permitting.  9AM-12PM or 1PM-4PM \nEmail info@nehsa.org to sign up and please note if you would like AM or PM.
URL:https://nehsa.org/events/on-snow-clinic-tethering-stand-up-skiers-2/
LOCATION:Mount Sunapee-South Peak\, 1398 NH Route 103\, Newbury\, NH\, 03255\, United States
CATEGORIES:Special Event,Training,Volunteer Pre Season Clinic
END:VEVENT
BEGIN:VEVENT
DTSTART;VALUE=DATE:20221218
DTEND;VALUE=DATE:20221219
DTSTAMP:20260424T010752
CREATED:20221118T191916Z
LAST-MODIFIED:20221118T191916Z
UID:10077-1671321600-1671407999@nehsa.org
SUMMARY:ON SNOW CLINIC Movement Analysis
DESCRIPTION:Movement Analysis\nIn this clinic\, you will investigate the common movement patterns for the beginner to intermediate skier. Join this active\ngroup while skiing to understand terminology\, concepts\, and movements of the skiing progression. Learn how to\ndevelop a critical eye while participating in various skiing exercises. Also practice setting plans for how and when to\nmake necessary changes for your adaptive athlete’s success. \nWeather permitting.  9AM-12PM or 1PM-4PM \nEmail info@nehsa.org to sign up and please note if you would like AM or PM.
URL:https://nehsa.org/events/on-snow-clinic-movement-analysis-3/
LOCATION:Mount Sunapee-South Peak\, 1398 NH Route 103\, Newbury\, NH\, 03255\, United States
CATEGORIES:Special Event,Training,Volunteer Pre Season Clinic
END:VEVENT
BEGIN:VEVENT
DTSTART;VALUE=DATE:20221218
DTEND;VALUE=DATE:20221219
DTSTAMP:20260424T010752
CREATED:20221118T192212Z
LAST-MODIFIED:20221118T192212Z
UID:10079-1671321600-1671407999@nehsa.org
SUMMARY:ON SNOW CLINIC Teaching Young Athletes
DESCRIPTION:Making Snowsports Fun\, Teaching Young Athletes\nWhat do kids want out of a snow sports experience? FUN! Join this session to explore creative ways to help the young\nathlete learn to ski. Children’s age specific learning tendencies\, teaching styles to their abilities along with fun skill\ndevelopment activities will be shared. \nWeather permitting.  9AM-12PM or 1PM-4PM \nEmail info@nehsa.org to sign up and please note if you would like AM or PM.
URL:https://nehsa.org/events/on-snow-clinic-teaching-young-athletes/
LOCATION:Mount Sunapee-South Peak\, 1398 NH Route 103\, Newbury\, NH\, 03255\, United States
CATEGORIES:Special Event,Training,Volunteer Pre Season Clinic
END:VEVENT
END:VCALENDAR