BEGIN:VCALENDAR
VERSION:2.0
PRODID:-//NEHSA - ECPv6.15.20//NONSGML v1.0//EN
CALSCALE:GREGORIAN
METHOD:PUBLISH
X-WR-CALNAME:NEHSA
X-ORIGINAL-URL:https://nehsa.org
X-WR-CALDESC:Events for NEHSA
REFRESH-INTERVAL;VALUE=DURATION:PT1H
X-Robots-Tag:noindex
X-PUBLISHED-TTL:PT1H
BEGIN:VTIMEZONE
TZID:America/New_York
BEGIN:DAYLIGHT
TZOFFSETFROM:-0500
TZOFFSETTO:-0400
TZNAME:EDT
DTSTART:20210314T070000
END:DAYLIGHT
BEGIN:STANDARD
TZOFFSETFROM:-0400
TZOFFSETTO:-0500
TZNAME:EST
DTSTART:20211107T060000
END:STANDARD
BEGIN:DAYLIGHT
TZOFFSETFROM:-0500
TZOFFSETTO:-0400
TZNAME:EDT
DTSTART:20220313T070000
END:DAYLIGHT
BEGIN:STANDARD
TZOFFSETFROM:-0400
TZOFFSETTO:-0500
TZNAME:EST
DTSTART:20221106T060000
END:STANDARD
BEGIN:DAYLIGHT
TZOFFSETFROM:-0500
TZOFFSETTO:-0400
TZNAME:EDT
DTSTART:20230312T070000
END:DAYLIGHT
BEGIN:STANDARD
TZOFFSETFROM:-0400
TZOFFSETTO:-0500
TZNAME:EST
DTSTART:20231105T060000
END:STANDARD
END:VTIMEZONE
BEGIN:VEVENT
DTSTART;VALUE=DATE:20221217
DTEND;VALUE=DATE:20221218
DTSTAMP:20260424T010719
CREATED:20221118T180915Z
LAST-MODIFIED:20221118T182800Z
UID:10047-1671235200-1671321599@nehsa.org
SUMMARY:ON SNOW CLINIC Intro to Sit Ski
DESCRIPTION:Intro to Sit-Ski\nIf you are interested in exploring the sit-ski program at NEHSA\, this clinic will introduce you to the equipment and\ndiscuss the benefits of each type (bi-ski\, dual-ski\, mono-ski) relative to specific disabilities. You will learn the skills to be a\nhelpful assistant\, how to safely load and unload from the lift\, and the different techniques for coaching your athlete. \nWeather permitting.  9AM-12PM or 1PM-4PM \nEmail info@nehsa.org to sign up and please note if you would like AM or PM.
URL:https://nehsa.org/events/on-snow-clinic-intro-to-sit-ski/
LOCATION:Mount Sunapee-South Peak\, 1398 NH Route 103\, Newbury\, NH\, 03255\, United States
CATEGORIES:Special Event,Training,Volunteer Pre Season Clinic
END:VEVENT
BEGIN:VEVENT
DTSTART;VALUE=DATE:20221217
DTEND;VALUE=DATE:20221218
DTSTAMP:20260424T010719
CREATED:20221118T181349Z
LAST-MODIFIED:20221118T182727Z
UID:10049-1671235200-1671321599@nehsa.org
SUMMARY:ON SNOW CLINIC Teaching Stand Up Skiers
DESCRIPTION:Teaching Stand-Up Skiers\nTeaching successes happen because we know our athletes. In this clinic we will review the various disabilities we see\nwith our stand-up skiers\, physical and cognitive assessments\, learning styles and teaching methods. The teaching\nprogression\, VI guiding techniques and appropriate adaptive assists will also be included. Insights and activities to make\nthe focus on safe and fun skill development will be shared. \nWeather permitting.  9AM-12PM or 1PM-4PM \nEmail info@nehsa.org to sign up and please note if you want AM or PM.
URL:https://nehsa.org/events/on-snow-clinic-teaching-stand-up-skiers/
LOCATION:Mount Sunapee-South Peak\, 1398 NH Route 103\, Newbury\, NH\, 03255\, United States
CATEGORIES:Special Event,Training,Volunteer Pre Season Clinic
END:VEVENT
BEGIN:VEVENT
DTSTART;VALUE=DATE:20221217
DTEND;VALUE=DATE:20221218
DTSTAMP:20260424T010719
CREATED:20221118T181555Z
LAST-MODIFIED:20221118T182654Z
UID:10051-1671235200-1671321599@nehsa.org
SUMMARY:ON SNOW CLINIC Tethering Bi Ski
DESCRIPTION:Tethering Bi-Ski\nThis clinic is meant for those of you who have some experience behind the sit-ski and is designed to further your skill as\na lead instructor. We will work on tethering techniques as well as in depth training to engage your participant by\nteaching them how to initiate turns and to use outriggers to give them more independence.\n*Participants must have some previous experience with the sit ski program to participate* \nWeather permitting.  9AM-12PM or 1PM-4PM \nEmail info@nehsa.org to sign up and please note if you would like AM or PM.
URL:https://nehsa.org/events/on-snow-clinic-tethering-bi-ski-2/
LOCATION:Mount Sunapee-South Peak\, 1398 NH Route 103\, Newbury\, NH\, 03255\, United States
CATEGORIES:Special Event,Training,Volunteer Pre Season Clinic
END:VEVENT
BEGIN:VEVENT
DTSTART;VALUE=DATE:20221217
DTEND;VALUE=DATE:20221218
DTSTAMP:20260424T010719
CREATED:20221118T181733Z
LAST-MODIFIED:20221118T182539Z
UID:10053-1671235200-1671321599@nehsa.org
SUMMARY:ON SNOW CLINIC Movement Analysis
DESCRIPTION:Movement Analysis\nIn this clinic\, you will investigate the common movement patterns for the beginner to intermediate skier. Join this active\ngroup while skiing to understand terminology\, concepts\, and movements of the skiing progression. Learn how to\ndevelop a critical eye while participating in various skiing exercises. Also practice setting plans for how and when to\nmake necessary changes for your adaptive athlete’s success. \nWeather permitting.  9AM-12PM or 1PM-4PM \nEmail info@nehsa.org to sign up and please note if you want AM or PM.
URL:https://nehsa.org/events/on-snow-clinic-movement-analysis-2/
LOCATION:Mount Sunapee-South Peak\, 1398 NH Route 103\, Newbury\, NH\, 03255\, United States
CATEGORIES:Special Event,Training,Volunteer Pre Season Clinic
END:VEVENT
BEGIN:VEVENT
DTSTART;VALUE=DATE:20221217
DTEND;VALUE=DATE:20221218
DTSTAMP:20260424T010719
CREATED:20221118T183255Z
LAST-MODIFIED:20221118T183255Z
UID:10063-1671235200-1671321599@nehsa.org
SUMMARY:ON SNOW CLINIC Teaching with the Slider
DESCRIPTION:Teaching with the Snow Slider\nIn this clinic\, you will view the basic physical evaluation of skiers who may use the slider and get hands on experience on\nhow to properly set up this piece of equipment. You will also have the opportunity to practice skiing and tethering the\nslider while learning the teaching progressions used with his device. The snow slider facilitates the needs of many standup skiers but is often viewed as a final device. Learn how to implement developmental plans for your athlete to move\nfrom the slider towards outrigger use or independence on any hand-held adaptive equipment. \nWeather permitting.  9AM-12PM or 1PM-3PM \nEmail info@nehsa.org to sign up and please note if you would like AM or PM.
URL:https://nehsa.org/events/on-snow-clinic-teaching-with-the-slider-2/
LOCATION:Mount Sunapee-South Peak\, 1398 NH Route 103\, Newbury\, NH\, 03255\, United States
CATEGORIES:Special Event,Training,Volunteer Pre Season Clinic
END:VEVENT
BEGIN:VEVENT
DTSTART;VALUE=DATE:20221217
DTEND;VALUE=DATE:20221218
DTSTAMP:20260424T010719
CREATED:20221118T185304Z
LAST-MODIFIED:20221118T185304Z
UID:10065-1671235200-1671321599@nehsa.org
SUMMARY:ON SNOW CLINIC Tethering Stand Up Skiers
DESCRIPTION:Tethering Techniques for Stand-Up Skiers\nThis clinic will focus on practicing the skills needed for effective stand up tethering. Included will be skiing drills which\nwill improve your ability to tether\, proper tethering positioning and how to use the terrain to better assist your athlete.\nPracticing these techniques will ensure that you can better help the skier be safe on the slope and advance their own\nskiing. Attendees will want to utilize NEHSA skis with eye bolts for this clinic. \nWeather permitting.  9AM-12PM or 1PM-3PM \nEmail info@nehsa.org to sign up and please note if you want AM or PM.
URL:https://nehsa.org/events/on-snow-clinic-tethering-stand-up-skiers/
LOCATION:Mount Sunapee-South Peak\, 1398 NH Route 103\, Newbury\, NH\, 03255\, United States
CATEGORIES:Special Event,Training,Volunteer Pre Season Clinic
END:VEVENT
END:VCALENDAR