BEGIN:VCALENDAR
VERSION:2.0
PRODID:-//NEHSA - ECPv6.15.20//NONSGML v1.0//EN
CALSCALE:GREGORIAN
METHOD:PUBLISH
X-ORIGINAL-URL:https://nehsa.org
X-WR-CALDESC:Events for NEHSA
REFRESH-INTERVAL;VALUE=DURATION:PT1H
X-Robots-Tag:noindex
X-PUBLISHED-TTL:PT1H
BEGIN:VTIMEZONE
TZID:America/New_York
BEGIN:DAYLIGHT
TZOFFSETFROM:-0500
TZOFFSETTO:-0400
TZNAME:EDT
DTSTART:20210314T070000
END:DAYLIGHT
BEGIN:STANDARD
TZOFFSETFROM:-0400
TZOFFSETTO:-0500
TZNAME:EST
DTSTART:20211107T060000
END:STANDARD
BEGIN:DAYLIGHT
TZOFFSETFROM:-0500
TZOFFSETTO:-0400
TZNAME:EDT
DTSTART:20220313T070000
END:DAYLIGHT
BEGIN:STANDARD
TZOFFSETFROM:-0400
TZOFFSETTO:-0500
TZNAME:EST
DTSTART:20221106T060000
END:STANDARD
BEGIN:DAYLIGHT
TZOFFSETFROM:-0500
TZOFFSETTO:-0400
TZNAME:EDT
DTSTART:20230312T070000
END:DAYLIGHT
BEGIN:STANDARD
TZOFFSETFROM:-0400
TZOFFSETTO:-0500
TZNAME:EST
DTSTART:20231105T060000
END:STANDARD
END:VTIMEZONE
BEGIN:VEVENT
DTSTART;VALUE=DATE:20221215
DTEND;VALUE=DATE:20221216
DTSTAMP:20260424T010751
CREATED:20221118T174014Z
LAST-MODIFIED:20221118T174435Z
UID:10037-1671062400-1671148799@nehsa.org
SUMMARY:ON SNOW CLINIC Movement Analysis
DESCRIPTION:Movement Analysis\nIn this clinic\, you will investigate the common movement patterns for the beginner to intermediate skier. Join this active\ngroup while skiing to understand terminology\, concepts\, and movements of the skiing progression. Learn how to\ndevelop a critical eye while participating in various skiing exercises. Also practice setting plans for how and when to\nmake necessary changes for your adaptive athlete’s success. \nWeather permitting.  9AM-12PM or 1PM-4PM \nEmail info@nehsa.org to sign up and please indicate which time you would like.
URL:https://nehsa.org/events/on-snow-clinic-movement-analysis/
LOCATION:Mount Sunapee-South Peak\, 1398 NH Route 103\, Newbury\, NH\, 03255\, United States
CATEGORIES:Special Event,Training,Volunteer Pre Season Clinic
END:VEVENT
BEGIN:VEVENT
DTSTART;VALUE=DATE:20221215
DTEND;VALUE=DATE:20221216
DTSTAMP:20260424T010751
CREATED:20221118T174346Z
LAST-MODIFIED:20221118T183011Z
UID:10039-1671062400-1671148799@nehsa.org
SUMMARY:ON SNOW CLINIC Tethering Bi Ski
DESCRIPTION:Tethering Bi-Ski\nThis clinic is meant for those of you who have some experience behind the sit-ski and is designed to further your skill as\na lead instructor. We will work on tethering techniques as well as in depth training to engage your participant by\nteaching them how to initiate turns and to use outriggers to give them more independence.\n*Participants must have some previous experience with the sit ski program to participate* \nWeather permitting.  9AM-12PM or 1PM-4PM \nEmail info@nehsa.org to sign up and please note if you would like AM or PM.
URL:https://nehsa.org/events/on-snow-clinic-tethering-bi-ski/
LOCATION:Mount Sunapee-South Peak\, 1398 NH Route 103\, Newbury\, NH\, 03255\, United States
CATEGORIES:Special Event,Training,Volunteer Pre Season Clinic
END:VEVENT
BEGIN:VEVENT
DTSTART;VALUE=DATE:20221215
DTEND;VALUE=DATE:20221216
DTSTAMP:20260424T010751
CREATED:20221118T175844Z
LAST-MODIFIED:20221118T182937Z
UID:10041-1671062400-1671148799@nehsa.org
SUMMARY:ON SNOW CLINIC Assisting Snowboarders
DESCRIPTION:Assisting Snowboarders\nParticipation in NEHSA’s ski program is thriving\, but our snowboarder population is growing too! In this clinic\, NEHSA\nhopes to provide the opportunity for ski instructors and snowboard instructors to come together to provide the best\nsnowboard experience possible for our athletes. This clinic will focus on everything from snowboard selection\, to\nadaptive snowboard equipment\, to tethering a snowboarder down the mountain. Whether you identify as a skier or a\nsnowboarder\, bring the equipment you feel most comfortable on and get ready for an awesome afternoon. *Skiers\nwelcome and encouraged!* \nWeather permitting.  9AM-12PM or 1PM-4PM \nEmail info@nehsa.org to sign up and please note if you want AM or PM.
URL:https://nehsa.org/events/on-snow-clinic-assisting-snowboarders/
LOCATION:Mount Sunapee-South Peak\, 1398 NH Route 103\, Newbury\, NH\, 03255\, United States
CATEGORIES:Special Event,Training,Volunteer Pre Season Clinic
END:VEVENT
BEGIN:VEVENT
DTSTART;VALUE=DATE:20221215
DTEND;VALUE=DATE:20221216
DTSTAMP:20260424T010751
CREATED:20221118T180236Z
LAST-MODIFIED:20221118T182905Z
UID:10043-1671062400-1671148799@nehsa.org
SUMMARY:ON SNOW CLINIC Teaching with the Slider
DESCRIPTION:Teaching with the Snow Slider\nIn this clinic\, you will view the basic physical evaluation of skiers who may use the slider and get hands on experience on\nhow to properly set up this piece of equipment. You will also have the opportunity to practice skiing and tethering the\nslider while learning the teaching progressions used with his device. The snow slider facilitates the needs of many standup skiers but is often viewed as a final device. Learn how to implement developmental plans for your athlete to move\nfrom the slider towards outrigger use or independence on any hand-held adaptive equipment. \nWeather permitting.  9AM-12PM or 1PM-3PM \nEmail info@nehsa.org to sign up and please note if you want AM or PM.
URL:https://nehsa.org/events/on-snow-clinic-teaching-with-the-slider/
LOCATION:Mount Sunapee-South Peak\, 1398 NH Route 103\, Newbury\, NH\, 03255\, United States
CATEGORIES:Special Event,Training,Volunteer Pre Season Clinic
END:VEVENT
BEGIN:VEVENT
DTSTART;VALUE=DATE:20221215
DTEND;VALUE=DATE:20221216
DTSTAMP:20260424T010751
CREATED:20221118T180440Z
LAST-MODIFIED:20221118T182831Z
UID:10045-1671062400-1671148799@nehsa.org
SUMMARY:ON SNOW CLINIC Ski Bike
DESCRIPTION:Ski Bike\nSki Bikes are out and about at Mount Sunapee! Ski Bikes are a fantastic tool for a wide variety of our athletes. Learn the\nins and outs of this new offering in our equipment line up. Try it for yourself and learn how to make a successful ski bike\nlesson. \nWeather permitting.  9AM-12PM or 1PM-4PM \nEmail info@nehsa.org to sign up and please note if you want AM or PM.
URL:https://nehsa.org/events/on-snow-clinic-ski-bike/
LOCATION:Mount Sunapee-South Peak\, 1398 NH Route 103\, Newbury\, NH\, 03255\, United States
CATEGORIES:Special Event,Training,Volunteer Pre Season Clinic
END:VEVENT
END:VCALENDAR