BEGIN:VCALENDAR
VERSION:2.0
PRODID:-//NEHSA - ECPv6.15.20//NONSGML v1.0//EN
CALSCALE:GREGORIAN
METHOD:PUBLISH
X-WR-CALNAME:NEHSA
X-ORIGINAL-URL:https://nehsa.org
X-WR-CALDESC:Events for NEHSA
REFRESH-INTERVAL;VALUE=DURATION:PT1H
X-Robots-Tag:noindex
X-PUBLISHED-TTL:PT1H
BEGIN:VTIMEZONE
TZID:America/New_York
BEGIN:DAYLIGHT
TZOFFSETFROM:-0500
TZOFFSETTO:-0400
TZNAME:EDT
DTSTART:20210314T070000
END:DAYLIGHT
BEGIN:STANDARD
TZOFFSETFROM:-0400
TZOFFSETTO:-0500
TZNAME:EST
DTSTART:20211107T060000
END:STANDARD
BEGIN:DAYLIGHT
TZOFFSETFROM:-0500
TZOFFSETTO:-0400
TZNAME:EDT
DTSTART:20220313T070000
END:DAYLIGHT
BEGIN:STANDARD
TZOFFSETFROM:-0400
TZOFFSETTO:-0500
TZNAME:EST
DTSTART:20221106T060000
END:STANDARD
BEGIN:DAYLIGHT
TZOFFSETFROM:-0500
TZOFFSETTO:-0400
TZNAME:EDT
DTSTART:20230312T070000
END:DAYLIGHT
BEGIN:STANDARD
TZOFFSETFROM:-0400
TZOFFSETTO:-0500
TZNAME:EST
DTSTART:20231105T060000
END:STANDARD
END:VTIMEZONE
BEGIN:VEVENT
DTSTART;TZID=America/New_York:20221213T180000
DTEND;TZID=America/New_York:20221213T190000
DTSTAMP:20260424T010718
CREATED:20221118T173602Z
LAST-MODIFIED:20221118T173602Z
UID:10035-1670954400-1670958000@nehsa.org
SUMMARY:VIRTUAL CLINIC Volunteer 201
DESCRIPTION:6:00 PM Volunteer 201\nThis season is going to be unlike any other! We’ve made some big updates in order to create a safe and fun season. This\nclinic will go over the changes regarding COVID-19\, SafeSport Training\, and Lodge Logistics for the upcoming winter\nseason. THIS IS A REQUIREMENT FOR RETURNING VOLUNTEERS AND MUST BE VIEWED BEFORE YOUR FIRST\nVOLUNTEER SESSION! \nEmail info@nehsa.org to sign up.
URL:https://nehsa.org/events/virtual-clinic-volunteer-201/
LOCATION:Zoom
CATEGORIES:Special Event,Training,Volunteer Pre Season Clinic
END:VEVENT
END:VCALENDAR