BEGIN:VCALENDAR
VERSION:2.0
PRODID:-//NEHSA - ECPv6.15.20//NONSGML v1.0//EN
CALSCALE:GREGORIAN
METHOD:PUBLISH
X-ORIGINAL-URL:https://nehsa.org
X-WR-CALDESC:Events for NEHSA
REFRESH-INTERVAL;VALUE=DURATION:PT1H
X-Robots-Tag:noindex
X-PUBLISHED-TTL:PT1H
BEGIN:VTIMEZONE
TZID:America/New_York
BEGIN:DAYLIGHT
TZOFFSETFROM:-0500
TZOFFSETTO:-0400
TZNAME:EDT
DTSTART:20210314T070000
END:DAYLIGHT
BEGIN:STANDARD
TZOFFSETFROM:-0400
TZOFFSETTO:-0500
TZNAME:EST
DTSTART:20211107T060000
END:STANDARD
BEGIN:DAYLIGHT
TZOFFSETFROM:-0500
TZOFFSETTO:-0400
TZNAME:EDT
DTSTART:20220313T070000
END:DAYLIGHT
BEGIN:STANDARD
TZOFFSETFROM:-0400
TZOFFSETTO:-0500
TZNAME:EST
DTSTART:20221106T060000
END:STANDARD
BEGIN:DAYLIGHT
TZOFFSETFROM:-0500
TZOFFSETTO:-0400
TZNAME:EDT
DTSTART:20230312T070000
END:DAYLIGHT
BEGIN:STANDARD
TZOFFSETFROM:-0400
TZOFFSETTO:-0500
TZNAME:EST
DTSTART:20231105T060000
END:STANDARD
END:VTIMEZONE
BEGIN:VEVENT
DTSTART;TZID=America/New_York:20221206T090000
DTEND;TZID=America/New_York:20221206T120000
DTSTAMP:20260424T010712
CREATED:20221118T153450Z
LAST-MODIFIED:20221118T162717Z
UID:10007-1670317200-1670328000@nehsa.org
SUMMARY:ON SNOW CLINIC Intro to Snowshoeing
DESCRIPTION:Tuesday\, December 6th: On Snow/Dirt\nIntro to Snowshoeing: 9:00 AM -12:00 PM Only\nDuring this outdoor clinic\, we will explore new equipment\, go over sizing\, and explore our local terrain at the mountain.\nThis clinic will help determine routes used for the winter and familiarize volunteers with new gear. We will talk about\nthe benefits of snowshoeing for all involved\, athlete and volunteer alike! \nMeet at the NEHSA Lodge. \nEmail info@nehsa.org to sign up.
URL:https://nehsa.org/events/on-snow-clinic-intro-to-snowshoeing/
LOCATION:NH
CATEGORIES:Special Event,Training,Volunteer Pre Season Clinic
END:VEVENT
END:VCALENDAR