BEGIN:VCALENDAR
VERSION:2.0
PRODID:-//NEHSA - ECPv6.15.20//NONSGML v1.0//EN
CALSCALE:GREGORIAN
METHOD:PUBLISH
X-WR-CALNAME:NEHSA
X-ORIGINAL-URL:https://nehsa.org
X-WR-CALDESC:Events for NEHSA
REFRESH-INTERVAL;VALUE=DURATION:PT1H
X-Robots-Tag:noindex
X-PUBLISHED-TTL:PT1H
BEGIN:VTIMEZONE
TZID:America/New_York
BEGIN:DAYLIGHT
TZOFFSETFROM:-0500
TZOFFSETTO:-0400
TZNAME:EDT
DTSTART:20190310T070000
END:DAYLIGHT
BEGIN:STANDARD
TZOFFSETFROM:-0400
TZOFFSETTO:-0500
TZNAME:EST
DTSTART:20191103T060000
END:STANDARD
BEGIN:DAYLIGHT
TZOFFSETFROM:-0500
TZOFFSETTO:-0400
TZNAME:EDT
DTSTART:20200308T070000
END:DAYLIGHT
BEGIN:STANDARD
TZOFFSETFROM:-0400
TZOFFSETTO:-0500
TZNAME:EST
DTSTART:20201101T060000
END:STANDARD
BEGIN:DAYLIGHT
TZOFFSETFROM:-0500
TZOFFSETTO:-0400
TZNAME:EDT
DTSTART:20210314T070000
END:DAYLIGHT
BEGIN:STANDARD
TZOFFSETFROM:-0400
TZOFFSETTO:-0500
TZNAME:EST
DTSTART:20211107T060000
END:STANDARD
END:VTIMEZONE
BEGIN:VEVENT
DTSTART;TZID=America/New_York:20201220T090000
DTEND;TZID=America/New_York:20201220T160000
DTSTAMP:20260425T150907
CREATED:20201124T193300Z
LAST-MODIFIED:20201124T193300Z
UID:7828-1608454800-1608480000@nehsa.org
SUMMARY:#22 - Ski Bike 9:00 - 12:00 or 1:00 - 4:00
DESCRIPTION:Ski Bikes are now allowed at Mount Sunapee! Ski Bikes are a fantastic tool for a wide variety of our athletes. Learn the\nins and outs of this new offering in our equipment line up. Try it for yourself and learn how to make any Ski Bike lesson a\nsuccess! \nTo register send an e-mail to info@nehsa.org
URL:https://nehsa.org/events/22-ski-bike-900-1200-or-100-400/
LOCATION:Mount Sunapee Resort\, 1398 Route 103\, Newbury\, NH\, 03255\, United States
CATEGORIES:Special Event,Training,Volunteer Pre Season Clinic
ORGANIZER;CN="NEHSA":MAILTO:info@nehsa.org
END:VEVENT
BEGIN:VEVENT
DTSTART;TZID=America/New_York:20201220T090000
DTEND;TZID=America/New_York:20201220T160000
DTSTAMP:20260425T150907
CREATED:20201124T193445Z
LAST-MODIFIED:20201124T193445Z
UID:7830-1608454800-1608480000@nehsa.org
SUMMARY:#23 - ATS
DESCRIPTION:To better understand the fundamentals of Alpine skiing\, we will show you ways to develop your own personal skiing.\nThis clinic will review the American Teaching System foundation and then demonstrate how to adapt these principles to\nmeet the needs of athletes with disabilities. *Participants must be able to ski various terrains on the mountain. \nTo register send an e-mail to info@nehsa.org. \n 
URL:https://nehsa.org/events/23-ats/
LOCATION:Mount Sunapee Resort\, 1398 Route 103\, Newbury\, NH\, 03255\, United States
CATEGORIES:Special Event,Training,Volunteer Pre Season Clinic
ORGANIZER;CN="NEHSA":MAILTO:info@nehsa.org
END:VEVENT
BEGIN:VEVENT
DTSTART;TZID=America/New_York:20201220T090000
DTEND;TZID=America/New_York:20201220T160000
DTSTAMP:20260425T150907
CREATED:20201124T193610Z
LAST-MODIFIED:20201124T193610Z
UID:7832-1608454800-1608480000@nehsa.org
SUMMARY:#24 - Intermediate Bi-Ski
DESCRIPTION:Already have some experience behind a bi-ski or as an assistant on a sit-ski lesson? This clinic is designed to give you\nmore hands-on training. You will learn how to safely navigate behind the workhorse of the sit-ski program\, the bi-ski.\n*Participants must have some previous experience with the bi-ski or have taken Intro to Sit-Ski to participate in this clinic. \nTo register send an e-mail to info@nehsa.org
URL:https://nehsa.org/events/24-intermediate-bi-ski/
LOCATION:New England Healing Sports Association\, 180 Mount Sunapee Rd\, Newbury\, NH\, 03255\, United States
CATEGORIES:Special Event,Training,Volunteer Pre Season Clinic
ORGANIZER;CN="NEHSA":MAILTO:info@nehsa.org
END:VEVENT
BEGIN:VEVENT
DTSTART;TZID=America/New_York:20201220T090000
DTEND;TZID=America/New_York:20201220T160000
DTSTAMP:20260425T150907
CREATED:20201124T193806Z
LAST-MODIFIED:20201124T193806Z
UID:7834-1608454800-1608480000@nehsa.org
SUMMARY:#25 - Advance Bi-Ski 9:00 - 12:00 or 1:00 - 4:00
DESCRIPTION:This clinic is meant for those of you who have a few years under your belt behind the sit-ski and is designed to further\nyour skill as a lead instructor. We will work on tethering techniques as well as in-depth training to engage your\nparticipant by teaching them how to initiate turns and to use outriggers to give them more independence.\n*Participants must have some previous experience with the bi-ski to participate in this clinic. \nTo register send an e-mail to info@nehsa.org
URL:https://nehsa.org/events/25-advance-bi-ski-900-1200-or-100-400/
LOCATION:Mount Sunapee Resort\, 1398 Route 103\, Newbury\, NH\, 03255\, United States
CATEGORIES:Special Event,Training,Volunteer Pre Season Clinic
ORGANIZER;CN="NEHSA":MAILTO:info@nehsa.org
END:VEVENT
BEGIN:VEVENT
DTSTART;TZID=America/New_York:20201220T090000
DTEND;TZID=America/New_York:20201220T160000
DTSTAMP:20260425T150907
CREATED:20201124T194043Z
LAST-MODIFIED:20201124T194043Z
UID:7836-1608454800-1608480000@nehsa.org
SUMMARY:#26 - Teach Mono-Ski 9:00 - 12:00 or 1:00 - 4:00
DESCRIPTION:This clinic is an introduction to mono-skiing\, including the assessment of the participant\, fitting the athlete\, and setting\nup the mono-ski\, the initial progression\, and\, if time and participation permits\, lift loading and unloading.\n*Participants must have some experience with the sit-ski program to participate in this clinic. \nTo register send an e-mail to info@nehsa.org
URL:https://nehsa.org/events/26-teach-mono-ski-900-1200-or-100-400/
LOCATION:Mount Sunapee Resort\, 1398 Route 103\, Newbury\, NH\, 03255\, United States
CATEGORIES:Special Event,Training,Volunteer Pre Season Clinic
ORGANIZER;CN="NEHSA":MAILTO:info@nehsa.org
END:VEVENT
BEGIN:VEVENT
DTSTART;TZID=America/New_York:20201220T090000
DTEND;TZID=America/New_York:20201220T160000
DTSTAMP:20260425T150907
CREATED:20201124T194209Z
LAST-MODIFIED:20201124T194254Z
UID:7838-1608454800-1608480000@nehsa.org
SUMMARY:#27 - Stand-Up Tethering
DESCRIPTION:This clinic will focus on practicing the skills needed for effective stand-up tethering. Included will be skiing drills which\nwill improve your ability to tether\, proper tethering positioning\, and how to use the terrain to better assist your athlete.\nPracticing these techniques will ensure that you can better help the skier be safe on the slope and advance their own\nskiing. *Attendees will want to utilize NEHSA skis with eye bolts for this clinic. \nTo register send an e-mail to info@nehsa.org
URL:https://nehsa.org/events/27-stand-up-tethering/
LOCATION:Mount Sunapee Resort\, 1398 Route 103\, Newbury\, NH\, 03255\, United States
CATEGORIES:Special Event,Training,Volunteer Pre Season Clinic
ORGANIZER;CN="NEHSA":MAILTO:info@nehsa.org
END:VEVENT
BEGIN:VEVENT
DTSTART;TZID=America/New_York:20201220T090000
DTEND;TZID=America/New_York:20201220T160000
DTSTAMP:20260425T150907
CREATED:20201124T194441Z
LAST-MODIFIED:20201124T194441Z
UID:7840-1608454800-1608480000@nehsa.org
SUMMARY:#28 - Movement Analysis 9:00 - 12:00 or 1:00 - 4:00
DESCRIPTION:In this clinic\, you will investigate the common movement patterns for the beginner to intermediate skier. Join this active\ngroup while skiing to understand the terminology\, concepts\, and movements of the skiing progression. Learn how to\ndevelop a critical eye while participating in various skiing exercises. Also\, practice setting plans for how and when to\nmake necessary changes for your adaptive athlete’s success. \nTo register send an e-mail to info@nehsa.org
URL:https://nehsa.org/events/28-movement-analysis-900-1200-or-100-400/
LOCATION:Mount Sunapee Resort\, 1398 Route 103\, Newbury\, NH\, 03255\, United States
CATEGORIES:Special Event,Training,Volunteer Pre Season Clinic
ORGANIZER;CN="NEHSA":MAILTO:info@nehsa.org
END:VEVENT
END:VCALENDAR