BEGIN:VCALENDAR
VERSION:2.0
PRODID:-//NEHSA - ECPv6.15.20//NONSGML v1.0//EN
CALSCALE:GREGORIAN
METHOD:PUBLISH
X-ORIGINAL-URL:https://nehsa.org
X-WR-CALDESC:Events for NEHSA
REFRESH-INTERVAL;VALUE=DURATION:PT1H
X-Robots-Tag:noindex
X-PUBLISHED-TTL:PT1H
BEGIN:VTIMEZONE
TZID:America/New_York
BEGIN:DAYLIGHT
TZOFFSETFROM:-0500
TZOFFSETTO:-0400
TZNAME:EDT
DTSTART:20190310T070000
END:DAYLIGHT
BEGIN:STANDARD
TZOFFSETFROM:-0400
TZOFFSETTO:-0500
TZNAME:EST
DTSTART:20191103T060000
END:STANDARD
BEGIN:DAYLIGHT
TZOFFSETFROM:-0500
TZOFFSETTO:-0400
TZNAME:EDT
DTSTART:20200308T070000
END:DAYLIGHT
BEGIN:STANDARD
TZOFFSETFROM:-0400
TZOFFSETTO:-0500
TZNAME:EST
DTSTART:20201101T060000
END:STANDARD
BEGIN:DAYLIGHT
TZOFFSETFROM:-0500
TZOFFSETTO:-0400
TZNAME:EDT
DTSTART:20210314T070000
END:DAYLIGHT
BEGIN:STANDARD
TZOFFSETFROM:-0400
TZOFFSETTO:-0500
TZNAME:EST
DTSTART:20211107T060000
END:STANDARD
END:VTIMEZONE
BEGIN:VEVENT
DTSTART;TZID=America/New_York:20201219T090000
DTEND;TZID=America/New_York:20201219T160000
DTSTAMP:20260425T150937
CREATED:20201124T185746Z
LAST-MODIFIED:20201124T185746Z
UID:7810-1608368400-1608393600@nehsa.org
SUMMARY:#14 - Tetra-Ski (Tentative) 9:00 - 12:00 or 1:00 - 4:00
DESCRIPTION:This clinic is tentative. Learn about one of the most technologically advanced pieces of adaptive equipment out there\,\nthe Tetra Ski! Learn from the University of Utah’s New England Rep and ASPNC Program Manager\, Nate Hanson. The\nTetra Ski uses robotics to allow individuals to ski as independently as possible. Learn about who benefits from this\namazing piece of adaptive equipment and give it a try! \nTo register send an e-mail to info@nehsa.org.
URL:https://nehsa.org/events/14-tetra-ski-tentative-900-1200-or-100-400/
LOCATION:New England Healing Sports Association\, 180 Mount Sunapee Rd\, Newbury\, NH\, 03255\, United States
CATEGORIES:Special Event,Training,Volunteer Pre Season Clinic
ORGANIZER;CN="NEHSA":MAILTO:info@nehsa.org
END:VEVENT
BEGIN:VEVENT
DTSTART;TZID=America/New_York:20201219T090000
DTEND;TZID=America/New_York:20201219T160000
DTSTAMP:20260425T150937
CREATED:20201124T190009Z
LAST-MODIFIED:20201124T190009Z
UID:7812-1608368400-1608393600@nehsa.org
SUMMARY:#15 - Intro to Sit-Ski 9:00 - 12:00 or 1:00 - 4:00
DESCRIPTION:If you are interested in exploring the sit-ski program at NEHSA\, this clinic will introduce you to the equipment and\ndiscuss the benefits of each type (bi-ski\, dual-ski\, mono-ski) relative to specific disabilities. You will learn the skills to be a\nhelpful assistant\, how to safely load and unload from the lift\, and the different techniques for coaching your participant. \nTo Register send an e-mail to into@nehsa.org. \n 
URL:https://nehsa.org/events/15-intro-to-sit-ski-900-1200-or-100-400/
LOCATION:New England Healing Sports Association\, 180 Mount Sunapee Rd\, Newbury\, NH\, 03255\, United States
CATEGORIES:Special Event,Training,Volunteer Pre Season Clinic
ORGANIZER;CN="NEHSA":MAILTO:info@nehsa.org
END:VEVENT
BEGIN:VEVENT
DTSTART;TZID=America/New_York:20201219T090000
DTEND;TZID=America/New_York:20201219T160000
DTSTAMP:20260425T150937
CREATED:20201124T190723Z
LAST-MODIFIED:20201124T190723Z
UID:7814-1608368400-1608393600@nehsa.org
SUMMARY:#16 - Intermediate Bi-Ski 9:00 - 12:00 or 1:00 - 4:00
DESCRIPTION:Already have some experience behind a bi-ski or as an assistant on a sit-ski lesson? This clinic is designed to give you\nmore hands-on training. You will learn how to safely navigate behind the workhorse of the sit-ski program\, the bi-ski.\n*Participants must have some previous experience with the bi-ski or have taken Intro to Sit-Ski to participate in this clinic. \nTo register send an e-mail to info@nehsa.org. \n 
URL:https://nehsa.org/events/16-intermediate-bi-ski-900-1200-or-100-400/
LOCATION:Mount Sunapee Resort\, 1398 Route 103\, Newbury\, NH\, 03255\, United States
CATEGORIES:Special Event,Training,Volunteer Pre Season Clinic
ORGANIZER;CN="NEHSA":MAILTO:info@nehsa.org
END:VEVENT
BEGIN:VEVENT
DTSTART;TZID=America/New_York:20201219T090000
DTEND;TZID=America/New_York:20201219T160000
DTSTAMP:20260425T150937
CREATED:20201124T191355Z
LAST-MODIFIED:20201124T191509Z
UID:7818-1608368400-1608393600@nehsa.org
SUMMARY:#17 - Advanced Bi-Ski 9:00 - 12:00 or 1:00 - 4:00
DESCRIPTION:This clinic is meant for those of you who have a few years under your belt behind the sit-ski and is designed to further\nyour skill as a lead instructor. We will work on tethering techniques as well as in-depth training to engage your\nparticipant by teaching them how to initiate turns and to use outriggers to give them more independence.\n*Participants must have some previous experience with the bi-ski to participate in this clinic. \nTo register send an e-mail to info@nehsa.org. \n.
URL:https://nehsa.org/events/17-advanced-bi-ski-900-1200-or-100-400-2/
LOCATION:Mount Sunapee Resort\, 1398 Route 103\, Newbury\, NH\, 03255\, United States
CATEGORIES:Special Event,Training,Volunteer Pre Season Clinic
ORGANIZER;CN="NEHSA":MAILTO:info@nehsa.org
END:VEVENT
BEGIN:VEVENT
DTSTART;TZID=America/New_York:20201219T090000
DTEND;TZID=America/New_York:20201219T160000
DTSTAMP:20260425T150937
CREATED:20201124T191831Z
LAST-MODIFIED:20201124T191831Z
UID:7820-1608368400-1608393600@nehsa.org
SUMMARY:#18 - Teaching Skiers with VI 9:00 - 12:00 or 1:00 - 4:00
DESCRIPTION:This session will introduce the basics of skiing with athletes with visual impairments. Learn about vision diagnoses\, safety\nconcerns\, teaching strategies\, and guiding techniques that will help the skier find success. Discover how to develop\nan awareness of the athlete’s needs which will establish trust and a close bond with your VI skier. \nTo register send an e-mail to info@nehsa.org. \n 
URL:https://nehsa.org/events/18-teaching-skiers-with-vi-900-1200-or-100-400/
LOCATION:Mount Sunapee Resort\, 1398 Route 103\, Newbury\, NH\, 03255\, United States
CATEGORIES:Special Event,Training,Volunteer Pre Season Clinic
ORGANIZER;CN="NEHSA":MAILTO:info@nehsa.org
END:VEVENT
BEGIN:VEVENT
DTSTART;TZID=America/New_York:20201219T090000
DTEND;TZID=America/New_York:20201219T160000
DTSTAMP:20260425T150937
CREATED:20201124T192053Z
LAST-MODIFIED:20201124T192053Z
UID:7822-1608368400-1608393600@nehsa.org
SUMMARY:#19 - Teaching Stand Up Skiers
DESCRIPTION:Teaching successes happen because we know our athletes. In this clinic\, we will review the various disabilities we see\nwith our stand-up skiers\, physical and cognitive assessments\, learning styles\, and teaching methods. The teaching\nprogression\, tethering techniques\, and appropriate adaptive assists will also be included. Insights and activities to make\nthe focus on safe and fun skill development will be shared. \nTo register send an e-mail to info@nehsa.org.
URL:https://nehsa.org/events/19-teaching-stand-up-skiers/
LOCATION:Mount Sunapee Resort\, 1398 Route 103\, Newbury\, NH\, 03255\, United States
CATEGORIES:Special Event,Training,Volunteer Pre Season Clinic
ORGANIZER;CN="NEHSA":MAILTO:info@nehsa.org
END:VEVENT
BEGIN:VEVENT
DTSTART;TZID=America/New_York:20201219T090000
DTEND;TZID=America/New_York:20201219T160000
DTSTAMP:20260425T150937
CREATED:20201124T192258Z
LAST-MODIFIED:20201124T192258Z
UID:7824-1608368400-1608393600@nehsa.org
SUMMARY:#20 - Movement Analysis 9:00 - 12:00 or 1:00 - 4:00
DESCRIPTION:In this clinic\, you will investigate the common movement patterns for the beginner to intermediate skier. Join this active\ngroup while skiing to understand the terminology\, concepts\, and movements of the skiing progression. Learn how to\ndevelop a critical eye while participating in various skiing exercises. Also\, practice setting plans for how and when to\nmake necessary changes for your adaptive athlete’s success. \nTo register send an e-mail to info@nehsa.org. \n  \n 
URL:https://nehsa.org/events/20-movement-analysis-900-1200-or-100-400/
LOCATION:Mount Sunapee Resort\, 1398 Route 103\, Newbury\, NH\, 03255\, United States
CATEGORIES:Special Event,Training,Volunteer Pre Season Clinic
ORGANIZER;CN="NEHSA":MAILTO:info@nehsa.org
END:VEVENT
BEGIN:VEVENT
DTSTART;TZID=America/New_York:20201219T090000
DTEND;TZID=America/New_York:20201219T160000
DTSTAMP:20260425T150937
CREATED:20201124T193115Z
LAST-MODIFIED:20201124T193115Z
UID:7826-1608368400-1608393600@nehsa.org
SUMMARY:#21 - Advanced Adaptive Snowboard 9:00 - 12:00 or 1:00 - 4:00
DESCRIPTION:Come to this clinic to advance your adaptive snowboard instruction techniques. Whether you are interested in fine\ntuning your tethering skills\, or increasing your maneuverability on the Rider Bar\, you won’t want to miss out on this\nexperiential learning opportunity.\n*Skiers welcome and encouraged!* \nTo register send an e-mail to info@nehsa.org.
URL:https://nehsa.org/events/21-advanced-adaptive-snowboard-900-1200-or-100-400/
LOCATION:Mount Sunapee Resort\, 1398 Route 103\, Newbury\, NH\, 03255\, United States
CATEGORIES:Special Event,Training,Volunteer Pre Season Clinic
ORGANIZER;CN="NEHSA":MAILTO:info@nehsa.org
END:VEVENT
END:VCALENDAR