BEGIN:VCALENDAR
VERSION:2.0
PRODID:-//NEHSA - ECPv6.15.20//NONSGML v1.0//EN
CALSCALE:GREGORIAN
METHOD:PUBLISH
X-WR-CALNAME:NEHSA
X-ORIGINAL-URL:https://nehsa.org
X-WR-CALDESC:Events for NEHSA
REFRESH-INTERVAL;VALUE=DURATION:PT1H
X-Robots-Tag:noindex
X-PUBLISHED-TTL:PT1H
BEGIN:VTIMEZONE
TZID:America/New_York
BEGIN:DAYLIGHT
TZOFFSETFROM:-0500
TZOFFSETTO:-0400
TZNAME:EDT
DTSTART:20190310T070000
END:DAYLIGHT
BEGIN:STANDARD
TZOFFSETFROM:-0400
TZOFFSETTO:-0500
TZNAME:EST
DTSTART:20191103T060000
END:STANDARD
BEGIN:DAYLIGHT
TZOFFSETFROM:-0500
TZOFFSETTO:-0400
TZNAME:EDT
DTSTART:20200308T070000
END:DAYLIGHT
BEGIN:STANDARD
TZOFFSETFROM:-0400
TZOFFSETTO:-0500
TZNAME:EST
DTSTART:20201101T060000
END:STANDARD
BEGIN:DAYLIGHT
TZOFFSETFROM:-0500
TZOFFSETTO:-0400
TZNAME:EDT
DTSTART:20210314T070000
END:DAYLIGHT
BEGIN:STANDARD
TZOFFSETFROM:-0400
TZOFFSETTO:-0500
TZNAME:EST
DTSTART:20211107T060000
END:STANDARD
END:VTIMEZONE
BEGIN:VEVENT
DTSTART;TZID=America/New_York:20201217T090000
DTEND;TZID=America/New_York:20201217T160000
DTSTAMP:20260425T150909
CREATED:20201124T184610Z
LAST-MODIFIED:20201124T184610Z
UID:7801-1608195600-1608220800@nehsa.org
SUMMARY:#10 - Slider 9:00 - 12:00 or 1:00 - 4:00
DESCRIPTION:In this clinic\, you will view the basic physical evaluation of skiers who may use the slider and get hands-on experience on\nhow to properly set up this piece of equipment. You will also have the opportunity to practice skiing and tethering the\nslider while learning the teaching progressions used with his device. The snow slider facilitates the needs of many standup skiers but is often viewed as a final device. Learn how to implement developmental plans for your athlete to move\nfrom the slider towards outrigger use or independence on any hand-held adaptive equipment. \nPlease register by sending an e-mail to info@nehsa.org.
URL:https://nehsa.org/events/10-slider-900-1200-or-100-400/
LOCATION:Mount Sunapee Resort\, 1398 Route 103\, Newbury\, NH\, 03255\, United States
CATEGORIES:Special Event,Training,Volunteer Pre Season Clinic
ORGANIZER;CN="NEHSA":MAILTO:info@nehsa.org
END:VEVENT
BEGIN:VEVENT
DTSTART;TZID=America/New_York:20201217T090000
DTEND;TZID=America/New_York:20201217T160000
DTSTAMP:20260425T150909
CREATED:20201124T184809Z
LAST-MODIFIED:20201124T184838Z
UID:7803-1608195600-1608220800@nehsa.org
SUMMARY:#11 - Intermediate Bi-Ski 9:00 - 12:00 or 1:00 - 4:00
DESCRIPTION:Already have some experience behind a bi-ski or as an assistant on a sit-ski lesson? This clinic is designed to give you\nmore hands-on training. You will learn how to safely navigate behind the workhorse of the sit-ski program\, the bi-ski.\n*Participants must have some previous experience with the bi-ski or have taken Intro to Sit-Ski to participate in this clinic. \nTo register send an e-mail to info@nehsa.org.
URL:https://nehsa.org/events/11-intermediate-bi-ski/
LOCATION:Mount Sunapee Resort\, 1398 Route 103\, Newbury\, NH\, 03255\, United States
CATEGORIES:Special Event,Training,Volunteer Pre Season Clinic
ORGANIZER;CN="NEHSA":MAILTO:info@nehsa.org
END:VEVENT
BEGIN:VEVENT
DTSTART;TZID=America/New_York:20201217T090000
DTEND;TZID=America/New_York:20201217T160000
DTSTAMP:20260425T150909
CREATED:20201124T185141Z
LAST-MODIFIED:20201124T185141Z
UID:7806-1608195600-1608220800@nehsa.org
SUMMARY:#12 - Assisting Snowboarders 9:00 - 12:00 or 1:00 - 4:00
DESCRIPTION:Participation in NEHSA’s ski program is thriving\, but our snowboarder population is growing too! In this clinic\, NEHSA\nhopes to provide the opportunity for ski instructors and snowboard instructors to come together to provide the best\nsnowboard experience possible for our athletes. This clinic will focus on everything from snowboard selection\, to\nadaptive snowboard equipment\, to tethering a snowboarder down the mountain. Whether you identify as a skier or a\nsnowboarder\, bring the equipment you feel most comfortable on and get ready for an awesome afternoon. *Skiers\nwelcome and encouraged!* \nTo register send an e-mail to info@nehsa.org.
URL:https://nehsa.org/events/12-assisting-snowboarders-900-1200-or-100-400/
LOCATION:Mount Sunapee Resort\, 1398 Route 103\, Newbury\, NH\, 03255\, United States
CATEGORIES:Special Event,Training,Volunteer Pre Season Clinic
ORGANIZER;CN="NEHSA":MAILTO:info@nehsa.org
END:VEVENT
BEGIN:VEVENT
DTSTART;TZID=America/New_York:20201217T090000
DTEND;TZID=America/New_York:20201217T160000
DTSTAMP:20260425T150909
CREATED:20201124T185343Z
LAST-MODIFIED:20201124T185512Z
UID:7808-1608195600-1608220800@nehsa.org
SUMMARY:#13 - Movement Analysis 9:00 - 12:00 or 1:00 - 4:00
DESCRIPTION:In this clinic\, you will investigate the common movement patterns for the beginner to intermediate skier. Join this active\ngroup while skiing to understand the terminology\, concepts\, and movements of the skiing progression. Learn how to\ndevelop a critical eye while participating in various skiing exercises. Also\, practice setting plans for how and when to\nmake necessary changes for your adaptive athlete’s success. \nTo register send an e-mail to info@nehsa.org. \n 
URL:https://nehsa.org/events/13-movement-analysis-900-1200-or-100-400/
LOCATION:New England Healing Sports Association\, 180 Mount Sunapee Rd\, Newbury\, NH\, 03255\, United States
CATEGORIES:Special Event,Training,Volunteer Pre Season Clinic
ORGANIZER;CN="NEHSA":MAILTO:info@nehsa.org
END:VEVENT
END:VCALENDAR