BEGIN:VCALENDAR
VERSION:2.0
PRODID:-//NEHSA - ECPv6.15.20//NONSGML v1.0//EN
CALSCALE:GREGORIAN
METHOD:PUBLISH
X-WR-CALNAME:NEHSA
X-ORIGINAL-URL:https://nehsa.org
X-WR-CALDESC:Events for NEHSA
REFRESH-INTERVAL;VALUE=DURATION:PT1H
X-Robots-Tag:noindex
X-PUBLISHED-TTL:PT1H
BEGIN:VTIMEZONE
TZID:America/New_York
BEGIN:DAYLIGHT
TZOFFSETFROM:-0500
TZOFFSETTO:-0400
TZNAME:EDT
DTSTART:20200308T070000
END:DAYLIGHT
BEGIN:STANDARD
TZOFFSETFROM:-0400
TZOFFSETTO:-0500
TZNAME:EST
DTSTART:20201101T060000
END:STANDARD
BEGIN:DAYLIGHT
TZOFFSETFROM:-0500
TZOFFSETTO:-0400
TZNAME:EDT
DTSTART:20210314T070000
END:DAYLIGHT
BEGIN:STANDARD
TZOFFSETFROM:-0400
TZOFFSETTO:-0500
TZNAME:EST
DTSTART:20211107T060000
END:STANDARD
BEGIN:DAYLIGHT
TZOFFSETFROM:-0500
TZOFFSETTO:-0400
TZNAME:EDT
DTSTART:20220313T070000
END:DAYLIGHT
BEGIN:STANDARD
TZOFFSETFROM:-0400
TZOFFSETTO:-0500
TZNAME:EST
DTSTART:20221106T060000
END:STANDARD
END:VTIMEZONE
BEGIN:VEVENT
DTSTART;VALUE=DATE:20211204
DTEND;VALUE=DATE:20211205
DTSTAMP:20260424T172033
CREATED:20211103T141513Z
LAST-MODIFIED:20211108T183300Z
UID:9032-1638576000-1638662399@nehsa.org
SUMMARY:Virtual Clinics
DESCRIPTION:Virtual Clinic Times: \n\n10:00 AM Learn to Teach\n11:30 AM Insights into Autism\n11:30 AM Volunteer 201\n1:00 PM Intro to Sit Virtual\n1:00 PM Volunteer 101\n\n 
URL:https://nehsa.org/events/preseason-training-virtual/
LOCATION:Zoom
CATEGORIES:Special Event,Training,Volunteer Pre Season Clinic
END:VEVENT
BEGIN:VEVENT
DTSTART;VALUE=DATE:20211207
DTEND;VALUE=DATE:20211208
DTSTAMP:20260424T172033
CREATED:20211108T181403Z
LAST-MODIFIED:20211108T181403Z
UID:9126-1638835200-1638921599@nehsa.org
SUMMARY:On Snow Clinic
DESCRIPTION:Intro to Snowshoeing \nAM session only\, 9 AM – 12 PM
URL:https://nehsa.org/events/on-snow-clinic/
LOCATION:New England Healing Sports Association\, 180 Mount Sunapee Rd\, Newbury\, NH\, 03255\, United States
CATEGORIES:Special Event,Training,Volunteer Pre Season Clinic
END:VEVENT
BEGIN:VEVENT
DTSTART;VALUE=DATE:20211211
DTEND;VALUE=DATE:20211212
DTSTAMP:20260424T172033
CREATED:20211103T142759Z
LAST-MODIFIED:20211108T180624Z
UID:9034-1639180800-1639267199@nehsa.org
SUMMARY:Virtual Clinics
DESCRIPTION:Virtual Clinic Times: \n\n10:00 AM Learn to Teach\n10:00 AM Volunteer 201\n11:30 AM Healthy Minds\n11:30 AM Snowboard Basics\n1:00 PM Intro to Sit Virtual\n1:00 PM Volunteer 101
URL:https://nehsa.org/events/preseason-training-virtual-2/
LOCATION:Zoom
CATEGORIES:Special Event,Training,Volunteer Pre Season Clinic
END:VEVENT
BEGIN:VEVENT
DTSTART;VALUE=DATE:20211212
DTEND;VALUE=DATE:20211213
DTSTAMP:20260424T172033
CREATED:20211103T143611Z
LAST-MODIFIED:20211108T181537Z
UID:9036-1639267200-1639353599@nehsa.org
SUMMARY:On Snow Clinics
DESCRIPTION:You can choose up to 2 sessions per day.    There are AM and PM sessions for each. \nAM sessions are 9 AM -12 PM and PM sessions are 1 PM to 4 PM. \n\nATS and the Adaptive Connection\nStand Up Tethering\nIntro to Sit-Ski\nIntermediate Bi-Ski\nTeaching with the Snow Slider
URL:https://nehsa.org/events/preseason-training/
LOCATION:New England Healing Sports Association\, 180 Mount Sunapee Rd\, Newbury\, NH\, 03255\, United States
CATEGORIES:Special Event,Training,Volunteer Pre Season Clinic
END:VEVENT
BEGIN:VEVENT
DTSTART;VALUE=DATE:20211214
DTEND;VALUE=DATE:20211215
DTSTAMP:20260424T172033
CREATED:20211103T143939Z
LAST-MODIFIED:20211108T181615Z
UID:9040-1639440000-1639526399@nehsa.org
SUMMARY:On Snow Clinics
DESCRIPTION:You can choose up to 2 sessions per day.    There are AM and PM sessions for each. \nAM sessions are 9 AM -12 PM and PM sessions are 1 PM to 4 PM. \n\nStand Up Tethering\nTeaching Skiers with VI (visual impairment)\nIntro to Sit-Ski\nTeaching Direct to Parallel\nTetra Ski
URL:https://nehsa.org/events/preseason-training-2/
LOCATION:New England Healing Sports Association\, 180 Mount Sunapee Rd\, Newbury\, NH\, 03255\, United States
CATEGORIES:Special Event,Training,Volunteer Pre Season Clinic
END:VEVENT
BEGIN:VEVENT
DTSTART;VALUE=DATE:20211216
DTEND;VALUE=DATE:20211217
DTSTAMP:20260424T172033
CREATED:20211103T163616Z
LAST-MODIFIED:20211108T181213Z
UID:9084-1639612800-1639699199@nehsa.org
SUMMARY:On Snow Clinics
DESCRIPTION:You can choose up to 2 sessions per day.    There are AM and PM sessions for each. \nAM sessions are 9 AM -12 PM and PM sessions are 1 PM to 4 PM. \n\nTeaching with the Snow Slider\nIntermediate Bi-Ski\nAssisting Snowboarders\nMovement Analysis
URL:https://nehsa.org/events/preseason-training-5/
LOCATION:New England Healing Sports Association\, 180 Mount Sunapee Rd\, Newbury\, NH\, 03255\, United States
CATEGORIES:Special Event,Training,Volunteer Pre Season Clinic
END:VEVENT
BEGIN:VEVENT
DTSTART;VALUE=DATE:20211218
DTEND;VALUE=DATE:20211219
DTSTAMP:20260424T172033
CREATED:20211103T144441Z
LAST-MODIFIED:20211217T173932Z
UID:9042-1639785600-1639871999@nehsa.org
SUMMARY:Pre-Season Clinics: INDOORS
DESCRIPTION:All indoor sessions will now be held from 9:00am-11:00am only: \n  \n\nIntro to Sit-Ski- Indoors 9:00am-11:00am Only\nIntermediate Bi-Ski- Canceled\nAdvanced Bi-Ski- Indoors 9:00am-11:00am\nTeaching Skiers with VI (Visual Impairment)- Indoors 9:00am-11:00am\nTeaching the Stand-Up Skier- Canceled\nMovement Analysis- Canceled\nAdv. Adaptive Snowboard Techniques- Canceled
URL:https://nehsa.org/events/preseason-training-3/
LOCATION:New England Healing Sports Association\, 180 Mount Sunapee Rd\, Newbury\, NH\, 03255\, United States
CATEGORIES:Special Event,Training,Volunteer Pre Season Clinic
END:VEVENT
BEGIN:VEVENT
DTSTART;VALUE=DATE:20211219
DTEND;VALUE=DATE:20211220
DTSTAMP:20260424T172033
CREATED:20211108T174731Z
LAST-MODIFIED:20211217T174100Z
UID:9105-1639872000-1639958399@nehsa.org
SUMMARY:Pre-Season Clinics: INDOORS
DESCRIPTION:All indoor clinics will be held from 9:00am-11:00am only: \n\nSki Bike- Indoors 9:00am-11:00am only\nATS and the Adaptive Connection- Canceled\nAdvanced Bi-Ski- Canceled\nTeaching Mono Skiers- Canceled\nStand-Up Tethering- Canceled\nMovement Analysis- Canceled\nTeaching Young Athletes- Canceled
URL:https://nehsa.org/events/on-snow-clinics/
LOCATION:New England Healing Sports Association\, 180 Mount Sunapee Rd\, Newbury\, NH\, 03255\, United States
CATEGORIES:Special Event,Training,Volunteer Pre Season Clinic
END:VEVENT
END:VCALENDAR