BEGIN:VCALENDAR
VERSION:2.0
PRODID:-//NEHSA - ECPv6.15.20//NONSGML v1.0//EN
CALSCALE:GREGORIAN
METHOD:PUBLISH
X-ORIGINAL-URL:https://nehsa.org
X-WR-CALDESC:Events for NEHSA
REFRESH-INTERVAL;VALUE=DURATION:PT1H
X-Robots-Tag:noindex
X-PUBLISHED-TTL:PT1H
BEGIN:VTIMEZONE
TZID:America/New_York
BEGIN:DAYLIGHT
TZOFFSETFROM:-0500
TZOFFSETTO:-0400
TZNAME:EDT
DTSTART:20250309T070000
END:DAYLIGHT
BEGIN:STANDARD
TZOFFSETFROM:-0400
TZOFFSETTO:-0500
TZNAME:EST
DTSTART:20251102T060000
END:STANDARD
BEGIN:DAYLIGHT
TZOFFSETFROM:-0500
TZOFFSETTO:-0400
TZNAME:EDT
DTSTART:20260308T070000
END:DAYLIGHT
BEGIN:STANDARD
TZOFFSETFROM:-0400
TZOFFSETTO:-0500
TZNAME:EST
DTSTART:20261101T060000
END:STANDARD
BEGIN:DAYLIGHT
TZOFFSETFROM:-0500
TZOFFSETTO:-0400
TZNAME:EDT
DTSTART:20270314T070000
END:DAYLIGHT
BEGIN:STANDARD
TZOFFSETFROM:-0400
TZOFFSETTO:-0500
TZNAME:EST
DTSTART:20271107T060000
END:STANDARD
END:VTIMEZONE
BEGIN:VEVENT
DTSTART;TZID=America/New_York:20260112T080000
DTEND;TZID=America/New_York:20260115T170000
DTSTAMP:20260421T144558
CREATED:20251001T165046Z
LAST-MODIFIED:20251001T184812Z
UID:12038-1768204800-1768496400@nehsa.org
SUMMARY:New England Winter Sports Clinic for Veterans with Disabilities
DESCRIPTION:
URL:https://nehsa.org/events/new-england-winter-sports-clinic-for-veterans-2/
LOCATION:Mount Sunapee Resort\, 1398 Route 103\, Newbury\, NH\, 03255\, United States
CATEGORIES:Snow Sports,Special Event,Veterans,Women Veterans
END:VEVENT
BEGIN:VEVENT
DTSTART;VALUE=DATE:20260207
DTEND;VALUE=DATE:20260208
DTSTAMP:20260421T144558
CREATED:20251001T185036Z
LAST-MODIFIED:20251213T160741Z
UID:12048-1770422400-1770508799@nehsa.org
SUMMARY:41st Annual Ski & Ride-A-Thon
DESCRIPTION:41st Annual Ski & Ride-A-Thon \nFebruary 7\, 2026 \nGet ready to hit the slopes for an unforgettable day of fun\, excitement\, and making a difference! The 41st Annual Ski & Ride-A-Thon is happening on February 7\, 2026\, at the stunning Mount Sunapee in Newbury\, NH. Whether you’re a seasoned skier or a snow newbie\, this event has something for everyone—all while supporting adaptive sports programs for individuals with disabilities. \n\nWhy You Don’t Want to Miss This!\n Family-Friendly Fun:\nBring the whole crew—young snow bunnies and seasoned shredders alike! This is your chance to create memories on the mountain together. \n Fundraising with Impact:\nEvery turn down the slope helps fund adaptive sports programs that empower individuals with disabilities. Your efforts directly support life-changing opportunities for recreation and inclusion. \nHawaiian Costume Contest:\nShow your spirit in true Hawaiian style! Prizes will be awarded for the Most Spirited Costume—so get creative and bring the party to the slopes! \n\nRegistration & Event Details:\n\nRegister  HERE\nStart planning your day to ski\, ride\, or cheer on participants.\n\n\nGet Involved and Make a Difference\nThis event is more than just skiing and snowboarding—it’s about building a stronger\, more inclusive community. Don’t miss this chance to support a cause that transforms lives while enjoying the thrill of winter sports. \nMark your calendars for February 7\, 2026\, and get ready for an amazing day at Mount Sunapee! \n Let’s make the 41st Annual Ski & Ride-A-Thon the best one yet!   
URL:https://nehsa.org/events/41st-annual-ski-ride-a-thon/
LOCATION:NH
CATEGORIES:Athletes,Fundraiser,Raffle,Snow Sports,Special Event,Volunteer
END:VEVENT
BEGIN:VEVENT
DTSTART;VALUE=DATE:20260302
DTEND;VALUE=DATE:20260304
DTSTAMP:20260421T144558
CREATED:20251001T183654Z
LAST-MODIFIED:20251001T184731Z
UID:12044-1772409600-1772582399@nehsa.org
SUMMARY:Women Vets Appreciation Days
DESCRIPTION:
URL:https://nehsa.org/events/women-vets-appreciation-days/
LOCATION:NH
CATEGORIES:Snow Sports,Special Event,Veterans,Women Veterans
END:VEVENT
BEGIN:VEVENT
DTSTART;VALUE=DATE:20260312
DTEND;VALUE=DATE:20260314
DTSTAMP:20260421T144558
CREATED:20251001T183757Z
LAST-MODIFIED:20251001T183757Z
UID:12046-1773273600-1773446399@nehsa.org
SUMMARY:Welcome Home Veterans Days
DESCRIPTION:
URL:https://nehsa.org/events/welcome-home-veterans-days-2/
LOCATION:NH
CATEGORIES:Snow Sports,Special Event,Veterans,Women Veterans
END:VEVENT
BEGIN:VEVENT
DTSTART;TZID=America/New_York:20260329T080000
DTEND;TZID=America/New_York:20260329T160000
DTSTAMP:20260421T144558
CREATED:20251001T190709Z
LAST-MODIFIED:20251001T190709Z
UID:12051-1774771200-1774800000@nehsa.org
SUMMARY:Volunteer Appreciation Ski Day
DESCRIPTION:This is an event for volunteers.  We will provide lunch.
URL:https://nehsa.org/events/volunteer-appreciation-ski-day-5/
LOCATION:NH
CATEGORIES:Snow Sports,Special Event,Volunteer
END:VEVENT
BEGIN:VEVENT
DTSTART;TZID=America/New_York:20260516T110000
DTEND;TZID=America/New_York:20260516T143000
DTSTAMP:20260421T144558
CREATED:20260320T150800Z
LAST-MODIFIED:20260320T151334Z
UID:12225-1778929200-1778941800@nehsa.org
SUMMARY:2026 NEHSA Annual Meeting\, Awards and End of Season BBQ
DESCRIPTION:2026 ANNUAL MEETING\nAll members are invited to attend the Annual Meeting and\nEnd of Season BBQ on Saturday\, May 16th\, at the NEHSA Lodge.\nBusiness Meeting and Lunch 11:30-12:30am\nAwards to Follow\nPlease RSVP info@nehsa.org
URL:https://nehsa.org/events/2026-nehsa-annual-meeting-awards-and-end-of-season-bbq/
LOCATION:New England Healing Sports Association\, 180 Mount Sunapee Rd\, Newbury\, NH\, 03255\, United States
CATEGORIES:Annual Meeting,Athletes,Board Meeting,End of Season Awards,Special Event,Volunteer
END:VEVENT
BEGIN:VEVENT
DTSTART;TZID=America/New_York:20260810T110000
DTEND;TZID=America/New_York:20260810T170000
DTSTAMP:20260421T144558
CREATED:20260310T191226Z
LAST-MODIFIED:20260318T123129Z
UID:12205-1786359600-1786381200@nehsa.org
SUMMARY:22nd Annual NEHSA Golf Tournament - Eastman Golf Links
DESCRIPTION:Location:  Eastman Golf Links\, 6 Clubhouse Lane\, Grantham\, NH  03753 \n\n\nJoin us at the Eastman Golf Links in Grantham\, NH\, for a day filled with golf\, camaraderie\, and charity. The event kicks off with registration at 11AM\, followed by a shotgun start at 12PM. Enjoy a day on the greens while supporting a great cause. \n\n\n\n\nOpen to All \nClick here to Register
URL:https://nehsa.org/events/nehsa-golf-tournament-eastman-golf-links-4/
LOCATION:Eastman Golf Links\, 6 Clubhouse Lane\, Grantham\, NH\, 03753\, United States
CATEGORIES:Fundraiser,Raffle,Special Event
END:VEVENT
BEGIN:VEVENT
DTSTART;TZID=America/New_York:20260927T100000
DTEND;TZID=America/New_York:20260927T150000
DTSTAMP:20260421T144558
CREATED:20260217T140709Z
LAST-MODIFIED:20260217T141418Z
UID:12182-1790503200-1790521200@nehsa.org
SUMMARY:7th Annual Veterans Portsmouth Paddle at the Portsmouth Elks Lodge
DESCRIPTION:Portsmouth Elks Lodge #97 and New England Healing Sports Association- NEHSA\nwill host Veterans from New England for an adaptive kayak in Portsmouth\, New Hampshire.  Includes lunch.\n\nLocation:  500 Jones Ave\, Portsmouth\, NH  03801\n\nTime:  start 10am – 3pm
URL:https://nehsa.org/events/7th-annual-veterans-portsmouth-paddle-at-the-portsmouth-elks-lodge/
LOCATION:Portsmouth  Elks Lodge #97\, 500 Jones Ave\, Portsmouth\, NH\, 03801\, United States
CATEGORIES:Athletes,Kayaking,Special Event,Summer Sports,Veterans,Volunteer,Women Veterans
END:VEVENT
END:VCALENDAR