BEGIN:VCALENDAR
VERSION:2.0
PRODID:-//NEHSA - ECPv6.15.20//NONSGML v1.0//EN
CALSCALE:GREGORIAN
METHOD:PUBLISH
X-ORIGINAL-URL:https://nehsa.org
X-WR-CALDESC:Events for NEHSA
REFRESH-INTERVAL;VALUE=DURATION:PT1H
X-Robots-Tag:noindex
X-PUBLISHED-TTL:PT1H
BEGIN:VTIMEZONE
TZID:America/New_York
BEGIN:DAYLIGHT
TZOFFSETFROM:-0500
TZOFFSETTO:-0400
TZNAME:EDT
DTSTART:20240310T070000
END:DAYLIGHT
BEGIN:STANDARD
TZOFFSETFROM:-0400
TZOFFSETTO:-0500
TZNAME:EST
DTSTART:20241103T060000
END:STANDARD
BEGIN:DAYLIGHT
TZOFFSETFROM:-0500
TZOFFSETTO:-0400
TZNAME:EDT
DTSTART:20250309T070000
END:DAYLIGHT
BEGIN:STANDARD
TZOFFSETFROM:-0400
TZOFFSETTO:-0500
TZNAME:EST
DTSTART:20251102T060000
END:STANDARD
BEGIN:DAYLIGHT
TZOFFSETFROM:-0500
TZOFFSETTO:-0400
TZNAME:EDT
DTSTART:20260308T070000
END:DAYLIGHT
BEGIN:STANDARD
TZOFFSETFROM:-0400
TZOFFSETTO:-0500
TZNAME:EST
DTSTART:20261101T060000
END:STANDARD
END:VTIMEZONE
BEGIN:VEVENT
DTSTART;TZID=America/New_York:20250303T080000
DTEND;TZID=America/New_York:20250304T160000
DTSTAMP:20260421T071921
CREATED:20241015T185240Z
LAST-MODIFIED:20241015T185240Z
UID:11524-1740988800-1741104000@nehsa.org
SUMMARY:Women Vets Appreciation Day
DESCRIPTION:
URL:https://nehsa.org/events/women-vets-appreciation-day-2/
LOCATION:NH
CATEGORIES:Snow Sports,Special Event,Veterans,Women Veterans
END:VEVENT
BEGIN:VEVENT
DTSTART;TZID=America/New_York:20250313T080000
DTEND;TZID=America/New_York:20250314T160000
DTSTAMP:20260421T071921
CREATED:20241015T185341Z
LAST-MODIFIED:20241015T185411Z
UID:11526-1741852800-1741968000@nehsa.org
SUMMARY:Welcome Home Veterans Days
DESCRIPTION:
URL:https://nehsa.org/events/welcome-home-veterans-days/
LOCATION:NH
CATEGORIES:Snow Sports,Special Event,Veterans,Women Veterans
END:VEVENT
BEGIN:VEVENT
DTSTART;TZID=America/New_York:20250323T080000
DTEND;TZID=America/New_York:20250323T160000
DTSTAMP:20260421T071921
CREATED:20241015T183225Z
LAST-MODIFIED:20241015T183225Z
UID:11520-1742716800-1742745600@nehsa.org
SUMMARY:Volunteer Appreciation Ski Day
DESCRIPTION:This is an event for volunteers.  We will provide lunch.
URL:https://nehsa.org/events/volunteer-appreciation-ski-day-4/
LOCATION:NH
CATEGORIES:Snow Sports,Special Event,Volunteer
END:VEVENT
END:VCALENDAR