BEGIN:VCALENDAR
VERSION:2.0
PRODID:-//NEHSA - ECPv6.15.20//NONSGML v1.0//EN
CALSCALE:GREGORIAN
METHOD:PUBLISH
X-WR-CALNAME:NEHSA
X-ORIGINAL-URL:https://nehsa.org
X-WR-CALDESC:Events for NEHSA
REFRESH-INTERVAL;VALUE=DURATION:PT1H
X-Robots-Tag:noindex
X-PUBLISHED-TTL:PT1H
BEGIN:VTIMEZONE
TZID:America/New_York
BEGIN:DAYLIGHT
TZOFFSETFROM:-0500
TZOFFSETTO:-0400
TZNAME:EDT
DTSTART:20230312T070000
END:DAYLIGHT
BEGIN:STANDARD
TZOFFSETFROM:-0400
TZOFFSETTO:-0500
TZNAME:EST
DTSTART:20231105T060000
END:STANDARD
BEGIN:DAYLIGHT
TZOFFSETFROM:-0500
TZOFFSETTO:-0400
TZNAME:EDT
DTSTART:20240310T070000
END:DAYLIGHT
BEGIN:STANDARD
TZOFFSETFROM:-0400
TZOFFSETTO:-0500
TZNAME:EST
DTSTART:20241103T060000
END:STANDARD
BEGIN:DAYLIGHT
TZOFFSETFROM:-0500
TZOFFSETTO:-0400
TZNAME:EDT
DTSTART:20250309T070000
END:DAYLIGHT
BEGIN:STANDARD
TZOFFSETFROM:-0400
TZOFFSETTO:-0500
TZNAME:EST
DTSTART:20251102T060000
END:STANDARD
END:VTIMEZONE
BEGIN:VEVENT
DTSTART;TZID=America/New_York:20241102T113000
DTEND;TZID=America/New_York:20241102T140000
DTSTAMP:20260421T124935
CREATED:20240903T143157Z
LAST-MODIFIED:20240903T143157Z
UID:11400-1730547000-1730556000@nehsa.org
SUMMARY:Volunteer Appreciation Lunch NEHSA Lodge
DESCRIPTION:11:30am-3pm \nPlease RSVP: info@nehsa.org \n 
URL:https://nehsa.org/events/volunteer-appreciation-lunch-nehsa-lodge-2/
LOCATION:Mount Sunapee Resort\, 1398 Route 103\, Newbury\, NH\, 03255\, United States
CATEGORIES:Special Event,Volunteer
END:VEVENT
BEGIN:VEVENT
DTSTART;TZID=America/New_York:20241116T100000
DTEND;TZID=America/New_York:20241116T140000
DTSTAMP:20260421T124935
CREATED:20240903T143825Z
LAST-MODIFIED:20240903T150455Z
UID:11402-1731751200-1731765600@nehsa.org
SUMMARY:NEHSA Open House at the NEHSA Lodge
DESCRIPTION:Welcome new members and athletes\, athletes and volunteers who are interested in learning more about what NEHSA does. \nPlease RSVP:  info@nehsa.org
URL:https://nehsa.org/events/nehsa-open-house-at-the-nehsa-lodge/
LOCATION:Mount Sunapee Resort\, 1398 Route 103\, Newbury\, NH\, 03255\, United States
CATEGORIES:Athletes,Special Event,Volunteer
END:VEVENT
END:VCALENDAR