BEGIN:VCALENDAR
VERSION:2.0
PRODID:-//NEHSA - ECPv6.15.20//NONSGML v1.0//EN
CALSCALE:GREGORIAN
METHOD:PUBLISH
X-ORIGINAL-URL:https://nehsa.org
X-WR-CALDESC:Events for NEHSA
REFRESH-INTERVAL;VALUE=DURATION:PT1H
X-Robots-Tag:noindex
X-PUBLISHED-TTL:PT1H
BEGIN:VTIMEZONE
TZID:America/New_York
BEGIN:DAYLIGHT
TZOFFSETFROM:-0500
TZOFFSETTO:-0400
TZNAME:EDT
DTSTART:20240310T070000
END:DAYLIGHT
BEGIN:STANDARD
TZOFFSETFROM:-0400
TZOFFSETTO:-0500
TZNAME:EST
DTSTART:20241103T060000
END:STANDARD
BEGIN:DAYLIGHT
TZOFFSETFROM:-0500
TZOFFSETTO:-0400
TZNAME:EDT
DTSTART:20250309T070000
END:DAYLIGHT
BEGIN:STANDARD
TZOFFSETFROM:-0400
TZOFFSETTO:-0500
TZNAME:EST
DTSTART:20251102T060000
END:STANDARD
BEGIN:DAYLIGHT
TZOFFSETFROM:-0500
TZOFFSETTO:-0400
TZNAME:EDT
DTSTART:20260308T070000
END:DAYLIGHT
BEGIN:STANDARD
TZOFFSETFROM:-0400
TZOFFSETTO:-0500
TZNAME:EST
DTSTART:20261101T060000
END:STANDARD
BEGIN:DAYLIGHT
TZOFFSETFROM:-0500
TZOFFSETTO:-0400
TZNAME:EDT
DTSTART:20270314T070000
END:DAYLIGHT
BEGIN:STANDARD
TZOFFSETFROM:-0400
TZOFFSETTO:-0500
TZNAME:EST
DTSTART:20271107T060000
END:STANDARD
END:VTIMEZONE
BEGIN:VEVENT
DTSTART;TZID=America/New_York:20250808T120000
DTEND;TZID=America/New_York:20250808T150000
DTSTAMP:20260421T180824
CREATED:20250509T123036Z
LAST-MODIFIED:20250730T142633Z
UID:11828-1754654400-1754665200@nehsa.org
SUMMARY:Kayak with WHIM - Location: Blaisdell Lake
DESCRIPTION:Join us to paddle with Wheelchair Health In Motion athletes. \nCost:  $30 per session \nSessions: 12PM-3PM \nLocation:  239 NH-114\, Bradford\, NH  03221
URL:https://nehsa.org/events/whim-paddle-location-blaisdell-lake-3/
LOCATION:Blaisdell Lake – Wrights Beach\, 239 NH -114\, Sutton\, NH\, United States
CATEGORIES:Athletes,Kayaking,Summer Sports,Volunteer
END:VEVENT
BEGIN:VEVENT
DTSTART;TZID=America/New_York:20250813T113000
DTEND;TZID=America/New_York:20250813T133000
DTSTAMP:20260421T180824
CREATED:20250509T122512Z
LAST-MODIFIED:20250509T143511Z
UID:11822-1755084600-1755091800@nehsa.org
SUMMARY:Kayak with Bedford\, MA\, VA - Location: Bedford\, MA\, Boat Ramp
DESCRIPTION:
URL:https://nehsa.org/events/bedford-ma-va-paddle-location-bedford-ma-boat-ramp-4/
LOCATION:Bedford MA Boat Ramp\, 285-305 Carlisle Rd\, Bedford\, MA\, 01730\, United States
CATEGORIES:Athletes,Kayaking,Summer Sports,Veterans,Volunteer,Women Veterans
END:VEVENT
BEGIN:VEVENT
DTSTART;TZID=America/New_York:20250816T100000
DTEND;TZID=America/New_York:20250816T150000
DTSTAMP:20260421T180824
CREATED:20250508T155844Z
LAST-MODIFIED:20250508T160118Z
UID:11802-1755338400-1755356400@nehsa.org
SUMMARY:Adaptive Kayak and SUP Lessons - Location:  Little Lake Sunapee Boat Launch
DESCRIPTION:Cost: $30 \nTime: 10am – 12pm or 1pm – 3pm \nLocation: 1891 Little Lake Sunapee Rd\, New London\, NH  03257 \nSign up in the NEHSA Portal or if you need to create an account please call us (603) 763-9158 or email info@nehsa.org
URL:https://nehsa.org/events/adaptive-kayak-and-sup-lessons-location-little-lake-sunapee-boat-launch-10/
LOCATION:Little Lake Sunapee Boat Launch\, Little Lake Sunapee Boat Launch\, New London\, NH\, 03257\, United States
CATEGORIES:Athletes,Kayaking,Summer Sports,Volunteer
END:VEVENT
BEGIN:VEVENT
DTSTART;TZID=America/New_York:20250818T093000
DTEND;TZID=America/New_York:20250818T113000
DTSTAMP:20260421T180824
CREATED:20250509T133715Z
LAST-MODIFIED:20250509T133715Z
UID:11842-1755509400-1755516600@nehsa.org
SUMMARY:Kayak with WJR VA - Location: Grafton Pond Reservation Boat Launch
DESCRIPTION:
URL:https://nehsa.org/events/kayak-with-wjr-va-location-grafton-pond-reservation-boat-launch-6/
LOCATION:Grafton Pond Reservation Boat Launch\, Grafton Pond Road\, Grafton\, NH\, 03240\, United States
CATEGORIES:Athletes,Kayaking,Summer Sports,Veterans,Volunteer,Women Veterans
END:VEVENT
BEGIN:VEVENT
DTSTART;TZID=America/New_York:20250819T100000
DTEND;TZID=America/New_York:20250819T150000
DTSTAMP:20260421T180824
CREATED:20250508T160440Z
LAST-MODIFIED:20250508T160440Z
UID:11805-1755597600-1755615600@nehsa.org
SUMMARY:Adaptive Kayak and SUP Lessons - Location: Little Lake Sunapee Boat Launch
DESCRIPTION:Cost: $30 \nTime: 10am – 12pm or 1pm – 3pm \nLocation: 1891 Little Lake Sunapee Rd\, New London\, NH  03257 \nSign up in the NEHSA Portal or if you need to create an account please call us (603) 763-9158 or email info@nehsa.org
URL:https://nehsa.org/events/adaptive-kayak-and-sup-lessons-location-little-lake-sunapee-boat-launch-11/
LOCATION:Little Lake Sunapee Boat Launch\, Little Lake Sunapee Boat Launch\, New London\, NH\, 03257\, United States
CATEGORIES:Athletes,Kayaking,Summer Sports,Volunteer
END:VEVENT
BEGIN:VEVENT
DTSTART;TZID=America/New_York:20250820T110000
DTEND;TZID=America/New_York:20250820T130000
DTSTAMP:20260421T180824
CREATED:20250509T145055Z
LAST-MODIFIED:20250509T182312Z
UID:11871-1755687600-1755694800@nehsa.org
SUMMARY:Kayak with Boston VA - Location: Newton Historic Boathouse\, Newton\, MA
DESCRIPTION:Time 11am – 1pm \nLocation:  Paddle Boston: Newton Historic Boathouse\, 2401 Commonwealth Ave\, Newton\, MA  02466   MAP \nPlease park at the Newton Boathouse Public Parking\, Weston\, MA 02493\, and walk over the bridge.  MAP
URL:https://nehsa.org/events/kayak-with-boston-va-location-newton-historic-boathouse-newton-ma-3/
LOCATION:Newton Historic Boathouse\, 2401 Commonwealth Avenue\, Newton\, MA\, 02466\, United States
CATEGORIES:Athletes,Kayaking,Summer Sports,Veterans,Volunteer,Women Veterans
END:VEVENT
BEGIN:VEVENT
DTSTART;TZID=America/New_York:20250822T100000
DTEND;TZID=America/New_York:20250822T150000
DTSTAMP:20260421T180824
CREATED:20250508T160722Z
LAST-MODIFIED:20250508T160722Z
UID:11807-1755856800-1755874800@nehsa.org
SUMMARY:Adaptive Kayak and SUP Lessons - Location: Little Lake Sunapee Boat Launch
DESCRIPTION:Cost: $30 \nTime: 10am – 12pm or 1pm – 3pm \nLocation: 1891 Little Lake Sunapee Rd\, New London\, NH  03257 \nSign up in the NEHSA Portal or if you need to create an account please call us (603) 763-9158 or email info@nehsa.org
URL:https://nehsa.org/events/adaptive-kayak-and-sup-lessons-location-little-lake-sunapee-boat-launch-12/
LOCATION:Little Lake Sunapee Boat Launch\, Little Lake Sunapee Boat Launch\, New London\, NH\, 03257\, United States
CATEGORIES:Athletes,Kayaking,Summer Sports,Volunteer
END:VEVENT
BEGIN:VEVENT
DTSTART;TZID=America/New_York:20250824T100000
DTEND;TZID=America/New_York:20250824T150000
DTSTAMP:20260421T180824
CREATED:20250121T151841Z
LAST-MODIFIED:20250507T181900Z
UID:11596-1756029600-1756047600@nehsa.org
SUMMARY:6th Annual Veterans Portsmouth Paddle at the Portsmouth Elks Lodge
DESCRIPTION:Portsmouth Elks Lodge #97 and New England Healing Sports Association- NEHSA\nwill host Veterans from New England for an adaptive kayak in Portsmouth\, New Hampshire.  Includes lunch.\n\nLocation:  500 Jones Ave\, Portsmouth\, NH  03801\n\nTime:  start 10am – 3pm
URL:https://nehsa.org/events/6th-annual-veterans-portsmouth-paddle-at-the-portsmouth-elks-lodge/
LOCATION:Portsmouth  Elks Lodge #97\, 500 Jones Ave\, Portsmouth\, NH\, 03801\, United States
CATEGORIES:Fundraiser,Kayaking,Special Event,Veterans,Women Veterans
END:VEVENT
BEGIN:VEVENT
DTSTART;TZID=America/New_York:20250826T100000
DTEND;TZID=America/New_York:20250826T150000
DTSTAMP:20260421T180824
CREATED:20250508T160854Z
LAST-MODIFIED:20250508T160854Z
UID:11809-1756202400-1756220400@nehsa.org
SUMMARY:Adaptive Kayak and SUP Lessons - Location: Little Lake Sunapee Boat Launch
DESCRIPTION:Cost: $30 \nTime: 10am – 12pm or 1pm – 3pm \nLocation: 1891 Little Lake Sunapee Rd\, New London\, NH  03257 \nSign up in the NEHSA Portal or if you need to create an account please call us (603) 763-9158 or email info@nehsa.org
URL:https://nehsa.org/events/adaptive-kayak-and-sup-lessons-location-little-lake-sunapee-boat-launch-13/
LOCATION:Little Lake Sunapee Boat Launch\, Little Lake Sunapee Boat Launch\, New London\, NH\, 03257\, United States
CATEGORIES:Athletes,Kayaking,Summer Sports,Volunteer
END:VEVENT
BEGIN:VEVENT
DTSTART;TZID=America/New_York:20250827T113000
DTEND;TZID=America/New_York:20250827T133000
DTSTAMP:20260421T180824
CREATED:20250509T122608Z
LAST-MODIFIED:20250509T142043Z
UID:11824-1756294200-1756301400@nehsa.org
SUMMARY:Kayak with Bedford\, MA\, VA - Location: Bedford\, MA\, Boat Ramp
DESCRIPTION:
URL:https://nehsa.org/events/bedford-ma-va-paddle-location-bedford-ma-boat-ramp-5/
LOCATION:Bedford MA Boat Ramp\, 285-305 Carlisle Rd\, Bedford\, MA\, 01730\, United States
CATEGORIES:Athletes,Kayaking,Summer Sports,Veterans,Volunteer,Women Veterans
END:VEVENT
BEGIN:VEVENT
DTSTART;TZID=America/New_York:20250903T120000
DTEND;TZID=America/New_York:20250903T140000
DTSTAMP:20260421T180824
CREATED:20250509T145230Z
LAST-MODIFIED:20250509T182237Z
UID:11873-1756900800-1756908000@nehsa.org
SUMMARY:Kayak with Boston VA - Location: Newton Historic Boathouse\, Newton\, MA
DESCRIPTION:Time 12am – 2pm \nLocation:  Paddle Boston: Newton Historic Boathouse\, 2401 Commonwealth Ave\, Newton\, MA  02466   MAP \nPlease park at the Newton Boathouse Public Parking\, Weston\, MA 02493\, and walk over the bridge.  MAP
URL:https://nehsa.org/events/kayak-with-boston-va-location-newton-historic-boathouse-newton-ma-4/
LOCATION:Newton Historic Boathouse\, 2401 Commonwealth Avenue\, Newton\, MA\, 02466\, United States
CATEGORIES:Athletes,Kayaking,Summer Sports,Veterans,Volunteer,Women Veterans
END:VEVENT
BEGIN:VEVENT
DTSTART;TZID=America/New_York:20250905T100000
DTEND;TZID=America/New_York:20250905T150000
DTSTAMP:20260421T180824
CREATED:20250509T123147Z
LAST-MODIFIED:20250509T181330Z
UID:11830-1757066400-1757084400@nehsa.org
SUMMARY:Kayak with WHIM - Location: Blaisdell Lake
DESCRIPTION:Join us to paddle with Wheelchair Health In Motion athletes \nCost:  $30 per session \nSessions: 10AM-12PM and 1PM-3PM \nLocation:  239 NH-114\, Bradford\, NH  03221
URL:https://nehsa.org/events/whim-paddle-location-blaisdell-lake-4/
LOCATION:Blaisdell Lake – Wrights Beach\, 239 NH -114\, Sutton\, NH\, United States
CATEGORIES:Athletes,Kayaking,Summer Sports,Volunteer
END:VEVENT
BEGIN:VEVENT
DTSTART;TZID=America/New_York:20250908T130000
DTEND;TZID=America/New_York:20250908T150000
DTSTAMP:20260421T180824
CREATED:20250509T165953Z
LAST-MODIFIED:20250509T165953Z
UID:11885-1757336400-1757343600@nehsa.org
SUMMARY:Kayak with WRJ VA RRC Group - Location: Grafton Pond Reservation Boat Launch
DESCRIPTION:
URL:https://nehsa.org/events/kayak-with-wrj-va-rrc-group-location-grafton-pond-reservation-boat-launch/
LOCATION:Grafton Pond Reservation Boat Launch\, Grafton Pond Road\, Grafton\, NH\, 03240\, United States
CATEGORIES:Athletes,Kayaking,Summer Sports,Veterans,Volunteer,Women Veterans
END:VEVENT
BEGIN:VEVENT
DTSTART;TZID=America/New_York:20250913T100000
DTEND;TZID=America/New_York:20250913T150000
DTSTAMP:20260421T180824
CREATED:20250509T120747Z
LAST-MODIFIED:20250509T120747Z
UID:11812-1757757600-1757775600@nehsa.org
SUMMARY:Adaptive Kayak and SUP Lessons - Location: Little Lake Sunapee Boat Launch
DESCRIPTION:Cost: $30 \nTime: 10am – 12pm or 1pm – 3pm \nLocation: 1891 Little Lake Sunapee Rd\, New London\, NH  03257 \nSign up in the NEHSA Portal or if you need to create an account please call us (603) 763-9158 or email info@nehsa.org
URL:https://nehsa.org/events/adaptive-kayak-and-sup-lessons-location-little-lake-sunapee-boat-launch-14/
LOCATION:Little Lake Sunapee Boat Launch\, Little Lake Sunapee Boat Launch\, New London\, NH\, 03257\, United States
CATEGORIES:Athletes,Kayaking,Summer Sports,Volunteer
END:VEVENT
BEGIN:VEVENT
DTSTART;TZID=America/New_York:20250915T093000
DTEND;TZID=America/New_York:20250915T113000
DTSTAMP:20260421T180824
CREATED:20250509T133930Z
LAST-MODIFIED:20250509T133930Z
UID:11846-1757928600-1757935800@nehsa.org
SUMMARY:Kayak with WJR VA - Location: Grafton Pond Reservation Boat Launch
DESCRIPTION:
URL:https://nehsa.org/events/kayak-with-wjr-va-location-grafton-pond-reservation-boat-launch-7/
LOCATION:Grafton Pond Reservation Boat Launch\, Grafton Pond Road\, Grafton\, NH\, 03240\, United States
CATEGORIES:Athletes,Kayaking,Summer Sports,Veterans,Volunteer,Women Veterans
END:VEVENT
BEGIN:VEVENT
DTSTART;TZID=America/New_York:20250917T120000
DTEND;TZID=America/New_York:20250917T140000
DTSTAMP:20260421T180824
CREATED:20250509T145345Z
LAST-MODIFIED:20250509T182159Z
UID:11875-1758110400-1758117600@nehsa.org
SUMMARY:Kayak with Boston VA - Location: Newton Historic Boathouse\, Newton\, MA
DESCRIPTION:Time 12am – 2pm \nLocation:  Paddle Boston: Newton Historic Boathouse\, 2401 Commonwealth Ave\, Newton\, MA  02466   MAP \nPlease park at the Newton Boathouse Public Parking\, Weston\, MA 02493\, and walk over the bridge.  MAP
URL:https://nehsa.org/events/kayak-with-boston-va-location-newton-historic-boathouse-newton-ma-5/
LOCATION:Newton Historic Boathouse\, 2401 Commonwealth Avenue\, Newton\, MA\, 02466\, United States
CATEGORIES:Athletes,Kayaking,Summer Sports,Veterans,Volunteer,Women Veterans
END:VEVENT
BEGIN:VEVENT
DTSTART;TZID=America/New_York:20250922T093000
DTEND;TZID=America/New_York:20250922T113000
DTSTAMP:20260421T180824
CREATED:20250509T134033Z
LAST-MODIFIED:20250509T134033Z
UID:11848-1758533400-1758540600@nehsa.org
SUMMARY:Kayak with WJR VA - Location: Grafton Pond Reservation Boat Launch
DESCRIPTION:
URL:https://nehsa.org/events/kayak-with-wjr-va-location-grafton-pond-reservation-boat-launch-8/
LOCATION:Grafton Pond Reservation Boat Launch\, Grafton Pond Road\, Grafton\, NH\, 03240\, United States
CATEGORIES:Athletes,Kayaking,Summer Sports,Veterans,Volunteer,Women Veterans
END:VEVENT
BEGIN:VEVENT
DTSTART;TZID=America/New_York:20250924T113000
DTEND;TZID=America/New_York:20250924T133000
DTSTAMP:20260421T180824
CREATED:20250509T122710Z
LAST-MODIFIED:20250509T141942Z
UID:11826-1758713400-1758720600@nehsa.org
SUMMARY:Kayak with Bedford\, MA\, VA - Location: Bedford\, MA\, Boat Ramp
DESCRIPTION:
URL:https://nehsa.org/events/bedford-ma-va-paddle-location-bedford-ma-boat-ramp-6/
LOCATION:Bedford MA Boat Ramp\, 285-305 Carlisle Rd\, Bedford\, MA\, 01730\, United States
CATEGORIES:Athletes,Kayaking,Summer Sports,Veterans,Volunteer,Women Veterans
END:VEVENT
BEGIN:VEVENT
DTSTART;TZID=America/New_York:20250927T100000
DTEND;TZID=America/New_York:20250927T150000
DTSTAMP:20260421T180824
CREATED:20250509T121029Z
LAST-MODIFIED:20250509T121029Z
UID:11814-1758967200-1758985200@nehsa.org
SUMMARY:Adaptive Kayak and SUP Lessons - Location: Little Lake Sunapee Boat Launch
DESCRIPTION:Cost: $30 \nTime: 10am – 12pm or 1pm – 3pm \nLocation: 1891 Little Lake Sunapee Rd\, New London\, NH  03257 \nSign up in the NEHSA Portal or if you need to create an account please call us (603) 763-9158 or email info@nehsa.org
URL:https://nehsa.org/events/adaptive-kayak-and-sup-lessons-location-little-lake-sunapee-boat-launch-15/
LOCATION:Little Lake Sunapee Boat Launch\, Little Lake Sunapee Boat Launch\, New London\, NH\, 03257\, United States
CATEGORIES:Athletes,Kayaking,Summer Sports,Volunteer
END:VEVENT
BEGIN:VEVENT
DTSTART;TZID=America/New_York:20250929T093000
DTEND;TZID=America/New_York:20250929T113000
DTSTAMP:20260421T180824
CREATED:20250509T134145Z
LAST-MODIFIED:20250509T134145Z
UID:11850-1759138200-1759145400@nehsa.org
SUMMARY:Kayak with WJR VA - Location: Grafton Pond Reservation Boat Launch
DESCRIPTION:
URL:https://nehsa.org/events/kayak-with-wjr-va-location-grafton-pond-reservation-boat-launch-9/
LOCATION:Grafton Pond Reservation Boat Launch\, Grafton Pond Road\, Grafton\, NH\, 03240\, United States
CATEGORIES:Athletes,Kayaking,Summer Sports,Veterans,Volunteer,Women Veterans
END:VEVENT
BEGIN:VEVENT
DTSTART;TZID=America/New_York:20251001T113000
DTEND;TZID=America/New_York:20251001T133000
DTSTAMP:20260421T180824
CREATED:20250827T151738Z
LAST-MODIFIED:20250827T151738Z
UID:11925-1759318200-1759325400@nehsa.org
SUMMARY:Kayak with Bedford\, MA\, VA - Location: Bedford\, MA\, Boat Ramp
DESCRIPTION:
URL:https://nehsa.org/events/kayak-with-bedford-ma-va-location-bedford-ma-boat-ramp/
LOCATION:Bedford MA Boat Ramp\, 285-305 Carlisle Rd\, Bedford\, MA\, 01730\, United States
CATEGORIES:Athletes,Kayaking,Veterans
END:VEVENT
BEGIN:VEVENT
DTSTART;TZID=America/New_York:20260522T100000
DTEND;TZID=America/New_York:20260522T140000
DTSTAMP:20260421T180824
CREATED:20260401T140536Z
LAST-MODIFIED:20260401T140536Z
UID:12233-1779444000-1779458400@nehsa.org
SUMMARY:Kayak Cleanup
DESCRIPTION:Time:  10am-2pm \nEmail info@nehsa.org if you would like to help out.  Bring a lunch!  Location:  Claremont\, NH.  We will email you directions.
URL:https://nehsa.org/events/kayak-cleanup/
CATEGORIES:Kayaking,Summer Sports,Volunteer
END:VEVENT
BEGIN:VEVENT
DTSTART;TZID=America/New_York:20260527T100000
DTEND;TZID=America/New_York:20260527T140000
DTSTAMP:20260421T180824
CREATED:20260401T140813Z
LAST-MODIFIED:20260401T140813Z
UID:12235-1779876000-1779890400@nehsa.org
SUMMARY:Kayak Cleanup Rain Date
DESCRIPTION:Rain Date if we cannot do it on May 22nd.  Time:  10am-2pm \nEmail info@nehsa.org if you would like to help out.  Bring a lunch!  Location:  Claremont\, NH.  We will email you directions.
URL:https://nehsa.org/events/kayak-cleanup-rain-date/
CATEGORIES:Kayaking,Summer Sports,Volunteer
END:VEVENT
BEGIN:VEVENT
DTSTART;TZID=America/New_York:20260612T100000
DTEND;TZID=America/New_York:20260612T150000
DTSTAMP:20260421T180824
CREATED:20260417T182308Z
LAST-MODIFIED:20260417T182308Z
UID:12271-1781258400-1781276400@nehsa.org
SUMMARY:Adaptive Kayak Training Clinic
DESCRIPTION:Time:  10am-3pm \nLocation: Little Lake Sunapee Boat Launch\, 1891 Little Lake Sunapee Rd\, New London\, NH 03257 \nPlease sign up in our NEHSA Portal (on your homepage click on NEHSA Clinic Registration) or give us a call (603) 763-9158 or email info@nehsa.org.
URL:https://nehsa.org/events/adaptive-kayak-training-clinic-2/
LOCATION:Little Lake Sunapee Boat Launch\, Little Lake Sunapee Boat Launch\, New London\, NH\, 03257\, United States
CATEGORIES:Kayaking,Summer Sports,Training,Volunteer
END:VEVENT
BEGIN:VEVENT
DTSTART;VALUE=DATE:20260720
DTEND;VALUE=DATE:20260725
DTSTAMP:20260421T180824
CREATED:20260121T133800Z
LAST-MODIFIED:20260121T133800Z
UID:12167-1784505600-1784937599@nehsa.org
SUMMARY:Veteran's Summer Sports Clinic - Rhode Island
DESCRIPTION:
URL:https://nehsa.org/events/veterans-summer-sports-clinic-rhode-island/
CATEGORIES:Athletes,Kayaking,Summer Sports,Veterans,Volunteer,Women Veterans
END:VEVENT
BEGIN:VEVENT
DTSTART;VALUE=DATE:20260811
DTEND;VALUE=DATE:20260814
DTSTAMP:20260421T180824
CREATED:20260310T190230Z
LAST-MODIFIED:20260311T122800Z
UID:12203-1786406400-1786665599@nehsa.org
SUMMARY:ACA Training
DESCRIPTION:Sign Up Required\, Volunteers Only
URL:https://nehsa.org/events/aca-training-2/
CATEGORIES:Kayaking,Training,Volunteer
END:VEVENT
BEGIN:VEVENT
DTSTART;TZID=America/New_York:20260927T100000
DTEND;TZID=America/New_York:20260927T150000
DTSTAMP:20260421T180824
CREATED:20260217T140709Z
LAST-MODIFIED:20260217T141418Z
UID:12182-1790503200-1790521200@nehsa.org
SUMMARY:7th Annual Veterans Portsmouth Paddle at the Portsmouth Elks Lodge
DESCRIPTION:Portsmouth Elks Lodge #97 and New England Healing Sports Association- NEHSA\nwill host Veterans from New England for an adaptive kayak in Portsmouth\, New Hampshire.  Includes lunch.\n\nLocation:  500 Jones Ave\, Portsmouth\, NH  03801\n\nTime:  start 10am – 3pm
URL:https://nehsa.org/events/7th-annual-veterans-portsmouth-paddle-at-the-portsmouth-elks-lodge/
LOCATION:Portsmouth  Elks Lodge #97\, 500 Jones Ave\, Portsmouth\, NH\, 03801\, United States
CATEGORIES:Athletes,Kayaking,Special Event,Summer Sports,Veterans,Volunteer,Women Veterans
END:VEVENT
END:VCALENDAR