BEGIN:VCALENDAR
VERSION:2.0
PRODID:-//NEHSA - ECPv6.15.20//NONSGML v1.0//EN
CALSCALE:GREGORIAN
METHOD:PUBLISH
X-ORIGINAL-URL:https://nehsa.org
X-WR-CALDESC:Events for NEHSA
REFRESH-INTERVAL;VALUE=DURATION:PT1H
X-Robots-Tag:noindex
X-PUBLISHED-TTL:PT1H
BEGIN:VTIMEZONE
TZID:America/New_York
BEGIN:DAYLIGHT
TZOFFSETFROM:-0500
TZOFFSETTO:-0400
TZNAME:EDT
DTSTART:20230312T070000
END:DAYLIGHT
BEGIN:STANDARD
TZOFFSETFROM:-0400
TZOFFSETTO:-0500
TZNAME:EST
DTSTART:20231105T060000
END:STANDARD
BEGIN:DAYLIGHT
TZOFFSETFROM:-0500
TZOFFSETTO:-0400
TZNAME:EDT
DTSTART:20240310T070000
END:DAYLIGHT
BEGIN:STANDARD
TZOFFSETFROM:-0400
TZOFFSETTO:-0500
TZNAME:EST
DTSTART:20241103T060000
END:STANDARD
BEGIN:DAYLIGHT
TZOFFSETFROM:-0500
TZOFFSETTO:-0400
TZNAME:EDT
DTSTART:20250309T070000
END:DAYLIGHT
BEGIN:STANDARD
TZOFFSETFROM:-0400
TZOFFSETTO:-0500
TZNAME:EST
DTSTART:20251102T060000
END:STANDARD
END:VTIMEZONE
BEGIN:VEVENT
DTSTART;TZID=America/New_York:20240713T160000
DTEND;TZID=America/New_York:20240713T203000
DTSTAMP:20260421T184444
CREATED:20240420T173729Z
LAST-MODIFIED:20240622T121534Z
UID:11078-1720886400-1720902600@nehsa.org
SUMMARY:Paddle Palooza on Lake Sunapee\, Location:  Sunapee Harbor
DESCRIPTION:Sign up by sending an email to info@nehsa.org \n4PM: Adaptive Kayak Demo \n6PM: Raffle/Yard Games/Boat Decoration \n7:30PM: “Buns in Boats” group paddle on Lake Sunapee
URL:https://nehsa.org/events/adaptive-kayak-sup-lessons-location-little-lake-sunapee-boat-launch-new-london-nh-3/
LOCATION:Little Lake Sunapee Boat Launch\, Little Lake Sunapee Boat Launch\, New London\, NH\, 03257\, United States
CATEGORIES:Athletes,Kayaking,Summer Sports,Volunteer
END:VEVENT
END:VCALENDAR