BEGIN:VCALENDAR
VERSION:2.0
PRODID:-//NEHSA - ECPv6.15.20//NONSGML v1.0//EN
CALSCALE:GREGORIAN
METHOD:PUBLISH
X-WR-CALNAME:NEHSA
X-ORIGINAL-URL:https://nehsa.org
X-WR-CALDESC:Events for NEHSA
REFRESH-INTERVAL;VALUE=DURATION:PT1H
X-Robots-Tag:noindex
X-PUBLISHED-TTL:PT1H
BEGIN:VTIMEZONE
TZID:America/New_York
BEGIN:DAYLIGHT
TZOFFSETFROM:-0500
TZOFFSETTO:-0400
TZNAME:EDT
DTSTART:20230312T070000
END:DAYLIGHT
BEGIN:STANDARD
TZOFFSETFROM:-0400
TZOFFSETTO:-0500
TZNAME:EST
DTSTART:20231105T060000
END:STANDARD
BEGIN:DAYLIGHT
TZOFFSETFROM:-0500
TZOFFSETTO:-0400
TZNAME:EDT
DTSTART:20240310T070000
END:DAYLIGHT
BEGIN:STANDARD
TZOFFSETFROM:-0400
TZOFFSETTO:-0500
TZNAME:EST
DTSTART:20241103T060000
END:STANDARD
BEGIN:DAYLIGHT
TZOFFSETFROM:-0500
TZOFFSETTO:-0400
TZNAME:EDT
DTSTART:20250309T070000
END:DAYLIGHT
BEGIN:STANDARD
TZOFFSETFROM:-0400
TZOFFSETTO:-0500
TZNAME:EST
DTSTART:20251102T060000
END:STANDARD
END:VTIMEZONE
BEGIN:VEVENT
DTSTART;TZID=America/New_York:20241002T163000
DTEND;TZID=America/New_York:20241002T183000
DTSTAMP:20260421T122252
CREATED:20240829T191105Z
LAST-MODIFIED:20240829T192423Z
UID:11364-1727886600-1727893800@nehsa.org
SUMMARY:White River Junction VA RRC Paddle\, Location: Grafton Pond Boat Launch\, Grafton\, NH
DESCRIPTION:
URL:https://nehsa.org/events/wrjva-rrc-paddle-location-grafton-pond-boat-launch-grafton-nh/
LOCATION:Grafton Pond Reservation Boat Launch\, Grafton Pond Road\, Grafton\, NH\, 03240\, United States
CATEGORIES:Athletes,Kayaking,Summer Sports,Veterans,Volunteer,Women Veterans
END:VEVENT
BEGIN:VEVENT
DTSTART;TZID=America/New_York:20241007T100000
DTEND;TZID=America/New_York:20241007T143000
DTSTAMP:20260421T122252
CREATED:20240829T193546Z
LAST-MODIFIED:20241003T190826Z
UID:11371-1728295200-1728311400@nehsa.org
SUMMARY:White River Junction VA - Hike changed to:  Mount Ascutney\, VT
DESCRIPTION:
URL:https://nehsa.org/events/white-river-junction-va-mount-kearsarge-hike-location-warner-nh-2/
LOCATION:Mount Ascutney\, VT\, 1826 Back Mountain Road\, Windsor\, VT\, 05089
CATEGORIES:Athletes,Hiking,Veterans,Volunteer,Women Veterans
END:VEVENT
BEGIN:VEVENT
DTSTART;TZID=America/New_York:20241009T110000
DTEND;TZID=America/New_York:20241009T140000
DTSTAMP:20260421T122252
CREATED:20240829T193755Z
LAST-MODIFIED:20240829T193755Z
UID:11373-1728471600-1728482400@nehsa.org
SUMMARY:Bedford MA VA Hike\, Location:  TBD
DESCRIPTION:Meeting location:  TBD
URL:https://nehsa.org/events/bedford-ma-va-hike-location-tbd/
LOCATION:New Hampshire
CATEGORIES:Athletes,Hiking,Veterans,Volunteer,Women Veterans
END:VEVENT
BEGIN:VEVENT
DTSTART;TZID=America/New_York:20241011T100000
DTEND;TZID=America/New_York:20241011T120000
DTSTAMP:20260421T122252
CREATED:20240903T140038Z
LAST-MODIFIED:20240903T140038Z
UID:11386-1728640800-1728648000@nehsa.org
SUMMARY:Adaptive Hiking\, Location:  Clark Pond\, New London\, NH
DESCRIPTION:10AM-12PM \nCost:  $10 \nClark Pond\, Bog Road\, New London\, NH
URL:https://nehsa.org/events/adaptive-hiking-location-clark-pond-new-london-nh/
LOCATION:Clark Pond\, New London\, NH\, Bog Rd\, New London\, NH\, 03257
CATEGORIES:Athletes,Hiking,Volunteer
END:VEVENT
BEGIN:VEVENT
DTSTART;TZID=America/New_York:20241016T100000
DTEND;TZID=America/New_York:20241016T120000
DTSTAMP:20260421T122252
CREATED:20240903T140343Z
LAST-MODIFIED:20240903T140343Z
UID:11388-1729072800-1729080000@nehsa.org
SUMMARY:Newport Rail Trail Adaptive Hike\, Location: Newport Rec Dept\, Newport\, NH
DESCRIPTION:10am-12pm \nCost: $10 \nMeet at Newport Rec Dept parking lot\, 65 Belknap Ave\, Newport\, NH
URL:https://nehsa.org/events/newport-rail-trail-adaptive-hike-location-newport-rec-dept-newport-nh/
LOCATION:Newport Rec Rail Trail\, Newport\, NH\, 65 Belknap Ave\, Newport\, NH\, 03773
CATEGORIES:Athletes,Hiking,Volunteer
END:VEVENT
BEGIN:VEVENT
DTSTART;TZID=America/New_York:20241018T100000
DTEND;TZID=America/New_York:20241018T120000
DTSTAMP:20260421T122252
CREATED:20240903T140545Z
LAST-MODIFIED:20240903T140545Z
UID:11390-1729245600-1729252800@nehsa.org
SUMMARY:Adaptive Hiking\, Location: Knights Hill Nature Park\, New London\, NH
DESCRIPTION:10am-1pm \nCost: $10
URL:https://nehsa.org/events/adaptive-hiking-location-knights-hill-nature-park-new-london-nh-3/
LOCATION:Knights Hill Nature Park\, 463 County Rd\, New London\, NH\, 03257\, United States
CATEGORIES:Athletes,Hiking,Volunteer
END:VEVENT
BEGIN:VEVENT
DTSTART;TZID=America/New_York:20241021T130000
DTEND;TZID=America/New_York:20241021T150000
DTSTAMP:20260421T122252
CREATED:20241015T121652Z
LAST-MODIFIED:20241015T121652Z
UID:11516-1729515600-1729522800@nehsa.org
SUMMARY:White River Junction VA Paddle - Grafton Pond\, NH
DESCRIPTION:
URL:https://nehsa.org/events/white-river-junction-va-paddle-grafton-pond-nh/
LOCATION:Grafton Pond Reservation Boat Launch\, Grafton Pond Road\, Grafton\, NH\, 03240\, United States
CATEGORIES:Athletes,Kayaking,Veterans,Volunteer,Women Veterans
END:VEVENT
BEGIN:VEVENT
DTSTART;TZID=America/New_York:20241023T100000
DTEND;TZID=America/New_York:20241023T120000
DTSTAMP:20260421T122252
CREATED:20240903T140726Z
LAST-MODIFIED:20240903T140726Z
UID:11392-1729677600-1729684800@nehsa.org
SUMMARY:Adaptive Hiking\, Location: Esther Currier Wildlife Management Parking\, New London\, NH
DESCRIPTION:10am-12pm \nCost: $10
URL:https://nehsa.org/events/adaptive-hiking-location-esther-currier-wildlife-management-parking-new-london-nh/
LOCATION:Esther Currier Wildlife Management Parking\, New London NH\, Route 11\, New London\, NH\, 03257\, United States
CATEGORIES:Athletes,Hiking,Volunteer
END:VEVENT
BEGIN:VEVENT
DTSTART;TZID=America/New_York:20241025T100000
DTEND;TZID=America/New_York:20241025T120000
DTSTAMP:20260421T122252
CREATED:20240903T141146Z
LAST-MODIFIED:20240903T141146Z
UID:11394-1729850400-1729857600@nehsa.org
SUMMARY:Adaptive Hiking\, Location: Webb Forest Interpretive Trails\, New London\, NH
DESCRIPTION:10am-12pm \nCost: $10
URL:https://nehsa.org/events/adaptive-hiking-location-webb-forest-interpretive-trails-new-london-nh/
LOCATION:Webb Forest Interpretive Trail\, New London\, NH\, Lakeshore Drive\, New London\, NH\, 03257
CATEGORIES:Athletes,Hiking,Volunteer
END:VEVENT
BEGIN:VEVENT
DTSTART;TZID=America/New_York:20241028T100000
DTEND;TZID=America/New_York:20241028T120000
DTSTAMP:20260421T122252
CREATED:20240903T141425Z
LAST-MODIFIED:20240903T141425Z
UID:11396-1730109600-1730116800@nehsa.org
SUMMARY:Adaptive Hiking\, Location: Fishersfield Park\, Newbury\, NH
DESCRIPTION:10am-12pm \nCost: $10
URL:https://nehsa.org/events/adaptive-hiking-location-fishersfield-park-newbury-nh-2/
LOCATION:Fishersfield Park\, 200 Old Post Rd\, Newbury\, NH\, 03255\, United States
CATEGORIES:Athletes,Hiking,Volunteer
END:VEVENT
BEGIN:VEVENT
DTSTART;TZID=America/New_York:20241031T100000
DTEND;TZID=America/New_York:20241031T120000
DTSTAMP:20260421T122252
CREATED:20240903T142441Z
LAST-MODIFIED:20240903T142441Z
UID:11398-1730368800-1730376000@nehsa.org
SUMMARY:Adaptive Hiking & Making a Craft\, Clark Lookout\, New London\, NH
DESCRIPTION:10am-12pm\, Cost: $10 \nWear your favorite Halloween costume! \nMeeting at New London Park and Ride\, NH 103A\, New London\, NH
URL:https://nehsa.org/events/adaptive-hiking-making-a-craft-clark-lookout-new-london-nh/
LOCATION:Clark Lookout\, New London\, NH\, NH-103A\, New London\, NH\, 03257
CATEGORIES:Athletes,Hiking,Volunteer
END:VEVENT
END:VCALENDAR